BEGIN:VCALENDAR
VERSION:2.0
PRODID:-//ChamberMaster//Event Calendar 2.0//EN
METHOD:PUBLISH
X-PUBLISHED-TTL:P3D
REFRESH-INTERVAL:P3D
CALSCALE:GREGORIAN
BEGIN:VEVENT
DTSTART;VALUE=DATE:20151210
DTEND;VALUE=DATE:20151211
TRANSP:TRANSPARENT
X-MICROSOFT-CDO-ALLDAYEVENT:TRUE
SUMMARY:Wine\, Dine\, and Mingle with SHCCNJ and Enterprise
DESCRIPTION:Wine\, Dine\, and Mingle with SHCCNJ and Enterprise
X-ALT-DESC;FMTTYPE=text/html:Wine\, Dine\, and Mingle with SHCCNJ and Enterprise
LOCATION:
UID:e.2857.23
SEQUENCE:3
DTSTAMP:20260422T212914Z
URL:https://business.shccnj.org/events/details/wine-dine-and-mingle-with-shccnj-and-enterprise-12-10-2015-23
END:VEVENT

END:VCALENDAR
