BEGIN:VCALENDAR
VERSION:2.0
PRODID:-//ChamberMaster//Event Calendar 2.0//EN
METHOD:PUBLISH
X-PUBLISHED-TTL:P3D
REFRESH-INTERVAL:P3D
CALSCALE:GREGORIAN
BEGIN:VEVENT
DTSTART;VALUE=DATE:20150319
DTEND;VALUE=DATE:20150320
TRANSP:TRANSPARENT
X-MICROSOFT-CDO-ALLDAYEVENT:TRUE
SUMMARY:Wells Fargo Meet & Greet
DESCRIPTION:Wells Fargo Meet & Greet
X-ALT-DESC;FMTTYPE=text/html:Wells Fargo Meet & Greet
LOCATION:
UID:e.2857.16
SEQUENCE:3
DTSTAMP:20260422T134514Z
URL:https://business.shccnj.org/events/details/wells-fargo-meet-greet-03-19-2015-16
END:VEVENT

END:VCALENDAR
