BEGIN:VCALENDAR
VERSION:2.0
PRODID:-//ChamberMaster//Event Calendar 2.0//EN
METHOD:PUBLISH
X-PUBLISHED-TTL:P3D
REFRESH-INTERVAL:P3D
CALSCALE:GREGORIAN
BEGIN:VEVENT
DTSTART:20180807T213000Z
DTEND:20180807T230000Z
X-MICROSOFT-CDO-ALLDAYEVENT:FALSE
SUMMARY:Wellbeing Series Announcement to support healthier familias
DESCRIPTION:JOIN US IN THIS LAUNCH/DISCOVERY SESSION AND LEARN:\n\n\n	ABOUT OUR WELLBEING SERIES\n	HOW THEY CAN TRANSFORM YOUR LIFE\n	DATES AND CONTENT OF EACH MASTERCLASS\n	MEET THE MASTER AND LISTEN TO HER INSPIRING STORY\n	ENJOY DELICIOUS SNACK AND NETWORKING WITH AMAZING PEOPLE\n\n\nDONT MISS THIS UNIQUE EXPERIENCE
X-ALT-DESC;FMTTYPE=text/html:<p><span style="color:#000000\;">JOIN US IN THIS LAUNCH/DISCOVERY SESSION AND LEARN:</span></p>\n\n<ul>\n	<li><span style="color:#000000\;">ABOUT OUR WELLBEING SERIES</span></li>\n	<li><span style="color:#000000\;">HOW THEY CAN TRANSFORM YOUR LIFE</span></li>\n	<li><span style="color:#000000\;">DATES AND CONTENT OF EACH MASTERCLASS</span></li>\n	<li><span style="color:#000000\;">MEET THE MASTER AND LISTEN TO HER INSPIRING STORY</span></li>\n	<li><span style="color:#000000\;">ENJOY DELICIOUS SNACK AND NETWORKING WITH AMAZING PEOPLE</span></li>\n</ul>\n\n<p><span style="color:#000000\;">DONT MISS THIS UNIQUE EXPERIENCE</span></p>\n
LOCATION:Statewide Hispanic Chamber of Commerce of NJ 1280 Wall Street West 5th Floor Lyndhurst\, NJ 07071
UID:e.2857.325
SEQUENCE:3
DTSTAMP:20260424T144437Z
URL:https://business.shccnj.org/events/details/wellbeing-series-announcement-to-support-healthier-familias-325
END:VEVENT

END:VCALENDAR
