BEGIN:VCALENDAR
VERSION:2.0
PRODID:-//ChamberMaster//Event Calendar 2.0//EN
METHOD:PUBLISH
X-PUBLISHED-TTL:P3D
REFRESH-INTERVAL:P3D
CALSCALE:GREGORIAN
BEGIN:VEVENT
DTSTART:20180930T123000Z
DTEND:20180930T160000Z
X-MICROSOFT-CDO-ALLDAYEVENT:FALSE
SUMMARY:Walk to Fight Alzheimer's
DESCRIPTION:Walk to Fight Alzheimer's is our largest fundraising event to support New Jersey families that are impacted by Alzheimer's disease. Funds raised through our walk support our programs and services such as Helpline\, Care Consultations\, the Respite Care and Wellness program\, Family Support Groups\, Always Safe \, and Clinical Trial Connections . Join us at the Skylands Regional Walk to Fight Alzheimer's \, held on the lovely campus of College of Saint Elizabeth. This destination is very unique due to the engaging outdoor Greek Theatre. There is plenty of free parking available in the college's parking lots. After you return from walking\, please stay and enjoy our post-walk activities that include refreshments\, entertainment and door prizes. Door prizes will be raffled off from the stage. Free raffle tickets (one per registered walker) will be given out by volunteers and staff after the walk to those who want to stay for the drawing. 100% of your walk donations support New Jersey individuals and families.
X-ALT-DESC;FMTTYPE=text/html:Walk to Fight Alzheimer&rsquo\;s is our largest fundraising event to support New Jersey families that are impacted by Alzheimer&rsquo\;s disease. Funds raised through our walk support our programs and services such as Helpline\, Care Consultations\, the Respite Care and Wellness program\, Family Support Groups\, Always Safe&reg\;\, and Clinical Trial Connections&reg\;. Join us at the Skylands Regional Walk to Fight Alzheimer&#39\;s&reg\;\, held on the lovely campus of College of Saint Elizabeth. This destination is very unique due to the engaging outdoor Greek Theatre. There is plenty of free parking available in the college&#39\;s parking lots. After you return from walking\, please stay and enjoy our post-walk activities that include refreshments\, entertainment and door prizes. Door prizes will be raffled off from the stage. Free raffle tickets (one per registered walker) will be given out by volunteers and staff after the walk to those who want to stay for the drawing. 100% of your walk donations support New Jersey individuals and families.
LOCATION:College of Saint Elizabeth
UID:e.2857.323
SEQUENCE:3
DTSTAMP:20260424T161510Z
URL:https://business.shccnj.org/events/details/walk-to-fight-alzheimer-s-323
END:VEVENT

END:VCALENDAR
