BEGIN:VCALENDAR
VERSION:2.0
PRODID:-//ChamberMaster//Event Calendar 2.0//EN
METHOD:PUBLISH
X-PUBLISHED-TTL:P3D
REFRESH-INTERVAL:P3D
CALSCALE:GREGORIAN
BEGIN:VEVENT
DTSTART:20170921T160000Z
DTEND:20170924T160000Z
X-MICROSOFT-CDO-ALLDAYEVENT:FALSE
SUMMARY:VIVA! Latino Film Festival
DESCRIPTION:Third Annual Latino Film festival is featuring OCHO's Documentary "Colonization is Extinction". The main points of discussion in the film surround the current economic crisis\, how colonialism has crippled the island\, as well as the current status of Oscar Lopez Rivera. The film portrays this through an interactive and engaging history of major events\, such as the beginning of colonial rule\, the Ponce Massacre\, the bombings of Vieques\, the sterilization of Puerto Rican women\, and more. The film utilizes expert interviews\, footage from various political and community events\, and historically archived media. A substantial portion of the film is dedicated to understanding and enlightening the viewers about the economic crisis Puerto Rico is in\, and was able to accomplish this through a riveting interview with Nelson Denis and other Puerto Rican activists and historians.
X-ALT-DESC;FMTTYPE=text/html:Third Annual Latino Film festival is featuring OCHO&#39\;s Documentary &quot\;Colonization is Extinction&quot\;. The main points of discussion in the film surround the current economic crisis\, how colonialism has crippled the island\, as well as the current status of Oscar Lopez Rivera. The film portrays this through an interactive and engaging history of major events\, such as the beginning of colonial rule\, the Ponce Massacre\, the bombings of Vieques\, the sterilization of Puerto Rican women\, and more. The film utilizes expert interviews\, footage from various political and community events\, and historically archived media. A substantial portion of the film is dedicated to understanding and enlightening the viewers about the economic crisis Puerto Rico is in\, and was able to accomplish this through a riveting interview with Nelson Denis and other Puerto Rican activists and historians.
LOCATION:87 Lafayette Street New York NY
UID:e.2857.218
SEQUENCE:3
DTSTAMP:20260424T004523Z
URL:https://business.shccnj.org/events/details/viva-latino-film-festival-218
END:VEVENT

END:VCALENDAR
