BEGIN:VCALENDAR
VERSION:2.0
PRODID:-//ChamberMaster//Event Calendar 2.0//EN
METHOD:PUBLISH
X-PUBLISHED-TTL:P3D
REFRESH-INTERVAL:P3D
CALSCALE:GREGORIAN
BEGIN:VEVENT
DTSTART:20170820T160000Z
DTEND:20170821T000000Z
X-MICROSOFT-CDO-ALLDAYEVENT:FALSE
SUMMARY:Tu Sello Latino Fest 2017
DESCRIPTION:Grandes Artistas Internacionales y nacionales estar n presentes.\n\nNo te puedes perder de conocerlos.
X-ALT-DESC;FMTTYPE=text/html:<h2 class="lgx-heading"><span style="font-size:18px\;">Grandes Artistas Internacionales y nacionales estar&aacute\;n presentes.<br />\nNo te puedes perder de conocerlos.</span></h2>\n
LOCATION:Monmouth Park\, Oceanport NJ
UID:e.2857.211
SEQUENCE:3
DTSTAMP:20260423T232605Z
URL:https://business.shccnj.org/events/details/tu-sello-latino-fest-2017-211
END:VEVENT

END:VCALENDAR
