BEGIN:VCALENDAR
VERSION:2.0
PRODID:-//ChamberMaster//Event Calendar 2.0//EN
METHOD:PUBLISH
X-PUBLISHED-TTL:P3D
REFRESH-INTERVAL:P3D
CALSCALE:GREGORIAN
BEGIN:VEVENT
DTSTART:20171026T120000Z
DTEND:20171026T150000Z
X-MICROSOFT-CDO-ALLDAYEVENT:FALSE
SUMMARY:Thought Leaders Conference
DESCRIPTION:Uber Technologies Regional General Manager Sarfraz Maredia\; McKinsey & Company's Capital Projects and Infrastructure Practices Partner Tyler Duvall\; and ReThink Studio Founder Jim Venturi will join us for a powerful discussion on mobility\, resiliency\, economic development\, workforce and sustainability at our Thought Leaders Conference on October 26th. The Meadowlands Regional 2040 Foundation was established to advance the economic well-being of the Greater Meadowlands Region. Leadership and vision are necessary to ensure we can sustain and grow an economy and a quality of life here through the year 2040. This conference will ignite and inspire bold ideas and will be a platform for the Meadowlands Regional Chamber and the Meadowlands 2040 Foundation to reveal our long term vision for the region. Visit www.meadowlands.org for full information!
X-ALT-DESC;FMTTYPE=text/html:Uber Technologies Regional General Manager Sarfraz Maredia\; McKinsey &amp\; Company&rsquo\;s Capital Projects and Infrastructure Practices Partner Tyler Duvall\; and ReThink Studio Founder Jim Venturi will join us for a powerful discussion on mobility\, resiliency\, economic development\, workforce and sustainability at our Thought Leaders Conference on October 26th. The Meadowlands Regional 2040 Foundation was established to advance the economic well-being of the Greater Meadowlands Region. Leadership and vision are necessary to ensure we can sustain and grow an economy and a quality of life here through the year 2040. This conference will ignite and inspire bold ideas and will be a platform for the Meadowlands Regional Chamber and the Meadowlands 2040 Foundation to reveal our long term vision for the region. Visit www.meadowlands.org for full information!
LOCATION:Hilton Meadowlands Hotel 2 Meadowlands Plaza East Rutherford\, NJ 07073
UID:e.2857.225
SEQUENCE:3
DTSTAMP:20260423T161813Z
URL:https://business.shccnj.org/events/details/thought-leaders-conference-225
END:VEVENT

END:VCALENDAR
