BEGIN:VCALENDAR
VERSION:2.0
PRODID:-//ChamberMaster//Event Calendar 2.0//EN
METHOD:PUBLISH
X-PUBLISHED-TTL:P3D
REFRESH-INTERVAL:P3D
CALSCALE:GREGORIAN
BEGIN:VEVENT
DTSTART:20180313T213000Z
DTEND:20180314T010000Z
X-MICROSOFT-CDO-ALLDAYEVENT:FALSE
SUMMARY:The Art of Being a Modern Latina
DESCRIPTION:Please join us for a cocktail reception and the opportunity to connect with top business leaders and professionals from NJ.\n\nAdmission:\n\n-Members- $30.00\n\n-Non-Members- $40.00\n\nClick Here for Sponsorship Opportunities
X-ALT-DESC;FMTTYPE=text/html:<div benton="" helvetica="" letter-spacing:="" style="margin: 0px\; padding: 0px\; color: rgb(40\, 44\, 53)\; font-size: 20px\; line-height: 30px\; font-weight: 600\;"><span style="font-size:12px\;"><span style="font-family:arial\;"><span style="padding-top: 0px\;">Please join us for a cocktail reception and the opportunity to connect with top business leaders and professionals from NJ.</span></span><br />\nAdmission:<br />\n-Members-&nbsp\;$30.00<br />\n-Non-Members- $40.00<br />\n<a href="https://chambermaster.blob.core.windows.net/userfiles/UserFiles/chambers/2857/File/ArtofBeingaModernLatina2018.png">Click&nbsp\;Here for Sponsorship Opportunities</a></span></div>\n
LOCATION:Bergen Community College 1280 Wall Street West Lyndhurst\, NJ 07071
UID:e.2857.284
SEQUENCE:3
DTSTAMP:20260424T095600Z
URL:https://business.shccnj.org/events/details/the-art-of-being-a-modern-latina-284
END:VEVENT

END:VCALENDAR
