BEGIN:VCALENDAR
VERSION:2.0
PRODID:-//ChamberMaster//Event Calendar 2.0//EN
METHOD:PUBLISH
X-PUBLISHED-TTL:P3D
REFRESH-INTERVAL:P3D
CALSCALE:GREGORIAN
BEGIN:VEVENT
DTSTART;VALUE=DATE:20160317
DTEND;VALUE=DATE:20160318
TRANSP:TRANSPARENT
X-MICROSOFT-CDO-ALLDAYEVENT:TRUE
SUMMARY:SHCCNJ ETP Information Session
DESCRIPTION:SHCCNJ ETP Information Session
X-ALT-DESC;FMTTYPE=text/html:SHCCNJ ETP Information Session
LOCATION:
UID:e.2857.30
SEQUENCE:3
DTSTAMP:20260423T013743Z
URL:https://business.shccnj.org/events/details/shccnj-etp-information-session-03-17-2016-30
END:VEVENT

END:VCALENDAR
