BEGIN:VCALENDAR
VERSION:2.0
PRODID:-//ChamberMaster//Event Calendar 2.0//EN
METHOD:PUBLISH
X-PUBLISHED-TTL:P3D
REFRESH-INTERVAL:P3D
CALSCALE:GREGORIAN
BEGIN:VEVENT
DTSTART;VALUE=DATE:20161014
DTEND;VALUE=DATE:20161015
TRANSP:TRANSPARENT
X-MICROSOFT-CDO-ALLDAYEVENT:TRUE
SUMMARY:SHCCNJ 26th Annual Convention & Awards Luncheon
DESCRIPTION:SHCCNJ 26th Annual Convention & Awards Luncheon
X-ALT-DESC;FMTTYPE=text/html:SHCCNJ 26th Annual Convention &amp\; Awards Luncheon
LOCATION:
UID:e.2857.1
SEQUENCE:3
DTSTAMP:20260423T110728Z
URL:https://business.shccnj.org/events/details/shccnj-26th-annual-convention-awards-luncheon-10-14-2016-1
END:VEVENT

END:VCALENDAR
