BEGIN:VCALENDAR
VERSION:2.0
PRODID:-//ChamberMaster//Event Calendar 2.0//EN
METHOD:PUBLISH
X-PUBLISHED-TTL:P3D
REFRESH-INTERVAL:P3D
CALSCALE:GREGORIAN
BEGIN:VEVENT
DTSTART;VALUE=DATE:20140805
DTEND;VALUE=DATE:20140806
TRANSP:TRANSPARENT
X-MICROSOFT-CDO-ALLDAYEVENT:TRUE
SUMMARY:SHCC-NJ Diversity Celebration
DESCRIPTION:SHCC-NJ Diversity Celebration
X-ALT-DESC;FMTTYPE=text/html:SHCC-NJ Diversity Celebration
LOCATION:
UID:e.2857.9
SEQUENCE:3
DTSTAMP:20260422T222053Z
URL:https://business.shccnj.org/events/details/shcc-nj-diversity-celebration-08-05-2014-9
END:VEVENT

END:VCALENDAR
