BEGIN:VCALENDAR
VERSION:2.0
PRODID:-//ChamberMaster//Event Calendar 2.0//EN
METHOD:PUBLISH
X-PUBLISHED-TTL:P3D
REFRESH-INTERVAL:P3D
CALSCALE:GREGORIAN
BEGIN:VEVENT
DTSTART;VALUE=DATE:20151016
DTEND;VALUE=DATE:20151017
TRANSP:TRANSPARENT
X-MICROSOFT-CDO-ALLDAYEVENT:TRUE
SUMMARY:SHCC-NJ 25th Annual Convention & Awards Luncheon
DESCRIPTION:SHCC-NJ 25th Annual Convention & Awards Luncheon
X-ALT-DESC;FMTTYPE=text/html:SHCC-NJ 25th Annual Convention & Awards Luncheon
LOCATION:
UID:e.2857.21
SEQUENCE:3
DTSTAMP:20260422T202411Z
URL:https://business.shccnj.org/events/details/shcc-nj-25th-annual-convention-awards-luncheon-10-16-2015-21
END:VEVENT

END:VCALENDAR
