BEGIN:VCALENDAR
VERSION:2.0
PRODID:-//ChamberMaster//Event Calendar 2.0//EN
METHOD:PUBLISH
X-PUBLISHED-TTL:P3D
REFRESH-INTERVAL:P3D
CALSCALE:GREGORIAN
BEGIN:VEVENT
DTSTART;VALUE=DATE:20141023
DTEND;VALUE=DATE:20141024
TRANSP:TRANSPARENT
X-MICROSOFT-CDO-ALLDAYEVENT:TRUE
SUMMARY:SHCC-NJ 24th Annual Convention & Awards Luncheon
DESCRIPTION:SHCC-NJ 24th Annual Convention & Awards Luncheon
X-ALT-DESC;FMTTYPE=text/html:SHCC-NJ 24th Annual Convention & Awards Luncheon
LOCATION:
UID:e.2857.12
SEQUENCE:3
DTSTAMP:20260422T200609Z
URL:https://business.shccnj.org/events/details/shcc-nj-24th-annual-convention-awards-luncheon-10-23-2014-12
END:VEVENT

END:VCALENDAR
