BEGIN:VCALENDAR
VERSION:2.0
PRODID:-//ChamberMaster//Event Calendar 2.0//EN
METHOD:PUBLISH
X-PUBLISHED-TTL:P3D
REFRESH-INTERVAL:P3D
CALSCALE:GREGORIAN
BEGIN:VEVENT
DTSTART:20180224T150000Z
DTEND:20180224T180000Z
X-MICROSOFT-CDO-ALLDAYEVENT:FALSE
SUMMARY:Sanitas Medical Center Grand Opening
DESCRIPTION:Come celebrate the Sanitas Medical Center grand opening in Union City\, NJ. Register today and attend the event for a chance to win a $250 Walmart giftcard.\n\n\n\nFamily and friends are welcomed! We have a morning full of fun family activities\, such as free doctor health check\, face painting\, refreshments\, prizes and more!
X-ALT-DESC;FMTTYPE=text/html:Come celebrate the Sanitas Medical Center grand opening in Union City\, NJ. Register today and attend the event for a chance to win a $250 Walmart giftcard.<br />\n<br />\nFamily and friends are welcomed! We have a morning full of fun family activities\, such as free doctor health check\, face painting\, refreshments\, prizes and more!
LOCATION:3196 Kennedy Boulevard Union City\, NJ 07087
UID:e.2857.298
SEQUENCE:3
DTSTAMP:20260424T070229Z
URL:https://business.shccnj.org/events/details/sanitas-medical-center-grand-opening-298
END:VEVENT

END:VCALENDAR
