BEGIN:VCALENDAR
VERSION:2.0
PRODID:-//ChamberMaster//Event Calendar 2.0//EN
METHOD:PUBLISH
X-PUBLISHED-TTL:P3D
REFRESH-INTERVAL:P3D
CALSCALE:GREGORIAN
BEGIN:VEVENT
DTSTART;VALUE=DATE:20260501
DTEND;VALUE=DATE:20260502
TRANSP:TRANSPARENT
X-MICROSOFT-CDO-ALLDAYEVENT:TRUE
SUMMARY:Protect your legacy!
DESCRIPTION:A Free Financial Mastery Webinar\n\nJoin us on May 1st as we walk you through how to get your financial house in order.\n\nJumpstart your path to generational wealth today!\n\n\n\nTopics include:\n\n. Personal Financial Management\n\n. Wills\, Trusts & Elder Care Planning\n\n. Building Intergenerational Wealth\n\nthrough Insurance
X-ALT-DESC;FMTTYPE=text/html:A Free Financial Mastery Webinar<br />\nJoin us on May 1st as we walk you through how to get your financial house in order.<br />\nJumpstart your path to generational wealth today!<br />\n<br />\nTopics include:<br />\n. Personal Financial Management<br />\n. Wills\, Trusts &amp\; Elder Care Planning<br />\n. Building Intergenerational Wealth<br />\nthrough Insurance
LOCATION:
UID:e.2857.2650
SEQUENCE:3
DTSTAMP:20260424T193851Z
URL:https://business.shccnj.org/events/details/protect-your-legacy-2650
END:VEVENT

END:VCALENDAR
