BEGIN:VCALENDAR
VERSION:2.0
PRODID:-//ChamberMaster//Event Calendar 2.0//EN
METHOD:PUBLISH
X-PUBLISHED-TTL:P3D
REFRESH-INTERVAL:P3D
CALSCALE:GREGORIAN
BEGIN:VEVENT
DTSTART:20180914T220000Z
DTEND:20180915T000000Z
X-MICROSOFT-CDO-ALLDAYEVENT:FALSE
SUMMARY:Paquito D'Rivera with the NJCU Alumni Jazz Big Band
DESCRIPTION:The 6th annual NJCU Alumni Jazz Big Band Concert takes place on Friday\, September 14\, at 6:00 p.m. on the J. Owen Grundy Pier\, Exchange Place\, in Jersey City. Conducted by retired NJCU Professor Richard Lowenthal\, this free concert will feature GRAMMY Award-winning guest artist Paquito D'Rivera in a tribute to WBGO\, the world's flagship jazz radio station\, and the 80th anniversary of the Benny Goodman Orchestra's landmark performance at Carnegie Hall. Food trucks will be on-site and seating is unreserved. In event of rain\, the concert will be held in the Harborside Atrium\, Harborside 2 and 3 at 34 Exchange Place. The J. Owen Grundy Pier is located near public transportation and there are numerous parking lots in the area.
X-ALT-DESC;FMTTYPE=text/html:The 6th annual NJCU Alumni Jazz Big Band Concert takes place on Friday\, September 14\, at 6:00 p.m. on the J. Owen Grundy Pier\, Exchange Place\, in Jersey City. Conducted by retired NJCU Professor Richard Lowenthal\, this free concert will feature GRAMMY Award-winning guest artist Paquito D&rsquo\;Rivera in a tribute to WBGO\, the world&rsquo\;s flagship jazz radio station\, and the 80th anniversary of the Benny Goodman Orchestra&rsquo\;s landmark performance at Carnegie Hall. Food trucks will be on-site and seating is unreserved. In event of rain\, the concert will be held in the Harborside Atrium\, Harborside 2 and 3 at 34 Exchange Place. The J. Owen Grundy Pier is located near public transportation and there are numerous parking lots in the area.
LOCATION:J. Owen Grundy Pier Exchange Place Hudson St\, Jersey City\, NJ
UID:e.2857.331
SEQUENCE:3
DTSTAMP:20260424T161207Z
URL:https://business.shccnj.org/events/details/paquito-d-rivera-with-the-njcu-alumni-jazz-big-band-331
END:VEVENT

END:VCALENDAR
