BEGIN:VCALENDAR
VERSION:2.0
PRODID:-//ChamberMaster//Event Calendar 2.0//EN
METHOD:PUBLISH
X-PUBLISHED-TTL:P3D
REFRESH-INTERVAL:P3D
CALSCALE:GREGORIAN
BEGIN:VEVENT
DTSTART:20180321T140000Z
DTEND:20180321T170000Z
X-MICROSOFT-CDO-ALLDAYEVENT:FALSE
SUMMARY:Open your store on Amazon and eBay
DESCRIPTION:DESCRIPTION\n\n\n\n\nAre you wondering how to sell online? Don't know how to open your online store on Amazon or eBay? Compare them and decide which one would work best for you.\n\nThis presentation is given by actual sellers who will cover the following areas:\n\n\n	Introduction to Amazon and eBay seller accounts\n	Processing fees and associated costs\n	Preparation for product listings: Titles\, descriptions\, and pricing\n	Shipping fulfillment\n	Tips for working with photos\n	Other considerations
X-ALT-DESC;FMTTYPE=text/html:<h3>DESCRIPTION</h3>\n\n<div>\n<div>\n<div>\n<p>Are you wondering how to sell online? Don&rsquo\;t know how to open your online store on Amazon or eBay? Compare them and decide which one would work best for you.</p>\n\n<p>This presentation is given by actual sellers who will cover the following areas:</p>\n\n<ul>\n	<li>Introduction to Amazon and eBay seller accounts</li>\n	<li>Processing fees and associated costs</li>\n	<li>Preparation for product listings: Titles\, descriptions\, and pricing</li>\n	<li>Shipping fulfillment</li>\n	<li>Tips for working with photos</li>\n	<li>Other considerations</li>\n</ul>\n</div>\n</div>\n</div>\n
LOCATION:The Hamilton Club 32 Church Street Paterson\, New Jersey 07505
UID:e.2857.296
SEQUENCE:3
DTSTAMP:20260421T043850Z
URL:https://business.shccnj.org/events/details/open-your-store-on-amazon-and-ebay-296
END:VEVENT

END:VCALENDAR
