BEGIN:VCALENDAR
VERSION:2.0
PRODID:-//ChamberMaster//Event Calendar 2.0//EN
METHOD:PUBLISH
X-PUBLISHED-TTL:P3D
REFRESH-INTERVAL:P3D
CALSCALE:GREGORIAN
BEGIN:VEVENT
DTSTART:20240912T160000Z
DTEND:20240912T173000Z
X-MICROSOFT-CDO-ALLDAYEVENT:FALSE
SUMMARY:NSF SBIR/STTR Overview: Securing Funding for National Health and Defense
DESCRIPTION:Unlock the potential of NSF SBIR/STTR grants to propel scientific and national progress! ?? Join our NJ Thrives webinar led by BBCetc experts Amanda Barnhart\, Principal Consultant\; Megan Varnum\, Ph.D.\, Sr. Principal Consultant\; and Jerry Hollister\, Executive Consultant and Co-owner. Dive into the National Science Foundation's SBIR/STTR program\, which invests over $200 million annually to foster scientific innovation that enhances national health\, prosperity\, and defense. ?? ????? Join our no-cost webinar to learn about: - Understand the goals and impacts of NSF SBIR/STTR grants. - Learn eligibility criteria and registration steps from experts. - Discover NSF-supported innovations and project alignment. - Gain tips on effective communication with NSF officials. ? Don't miss this chance to find out how the NSF SBIR/STTR program can support your research or business venture in making a significant scientific impact. ?? Register now and start your journey with expert insights from Amanda\, Megan\, and Jerry!
X-ALT-DESC;FMTTYPE=text/html:Unlock the potential of NSF SBIR/STTR grants to propel scientific and national progress! ?? Join our NJ Thrives webinar led by BBCetc experts Amanda Barnhart\, Principal Consultant\; Megan Varnum\, Ph.D.\, Sr. Principal Consultant\; and Jerry Hollister\, Executive Consultant and Co-owner. Dive into the National Science Foundation&rsquo\;s SBIR/STTR program\, which invests over $200 million annually to foster scientific innovation that enhances national health\, prosperity\, and defense. ?? ????? Join our no-cost webinar to learn about: - Understand the goals and impacts of NSF SBIR/STTR grants. - Learn eligibility criteria and registration steps from experts. - Discover NSF-supported innovations and project alignment. - Gain tips on effective communication with NSF officials. ? Don&rsquo\;t miss this chance to find out how the NSF SBIR/STTR program can support your research or business venture in making a significant scientific impact. ?? Register now and start your journey with expert insights from Amanda\, Megan\, and Jerry!
LOCATION:Online
UID:e.2857.2076
SEQUENCE:3
DTSTAMP:20260423T171009Z
URL:https://business.shccnj.org/events/details/nsf-sbir-sttr-overview-securing-funding-for-national-health-and-defense-2076
END:VEVENT

END:VCALENDAR
