BEGIN:VCALENDAR
VERSION:2.0
PRODID:-//ChamberMaster//Event Calendar 2.0//EN
METHOD:PUBLISH
X-PUBLISHED-TTL:P3D
REFRESH-INTERVAL:P3D
CALSCALE:GREGORIAN
BEGIN:VEVENT
DTSTART:20180914T220000Z
DTEND:20180915T010000Z
X-MICROSOFT-CDO-ALLDAYEVENT:FALSE
SUMMARY:NJCU Alumni Jazz Big Band
DESCRIPTION:The Statewide Hispanic Chamber of Commerce is pleased to support the annual NJCU Alumni Jazz Big Band Concert on Friday\, September 14 presented by the NJCU Center for the Arts at 6:00 p.m. on the J. Owen Grundy Pier\, Exchange Place\, in Jersey City. Conducted by retired NJCU Professor Richard Lowenthal\, this free concert will feature GRAMMY Award-winning guest artist Paquito D'Rivera in a tribute to WBGO Newark\, the world's flagship jazz radio station\, and the 80th anniversary of the Benny Goodman Orchestra's landmark performance at Carnegie Hall. Food trucks will be on-site and seating is unreserved. In event of rain\, the concert will be held in the Harborside Atrium\, Harborside 2 and 3 at 34 Exchange Place. The J. Owen Grundy Pier is located near public transportation and there are numerous parking lots in the area.
X-ALT-DESC;FMTTYPE=text/html:The Statewide Hispanic Chamber of Commerce is pleased to support <span style="color:black\;">the annual<strong>&nbsp\;NJCU Alumni Jazz Big Band Concert</strong>&nbsp\;on Friday\, September 14 presented by the NJCU Center for the Arts at 6:00 p.m. on the J. Owen Grundy Pier\, Exchange Place\, in Jersey City. Conducted by retired NJCU Professor Richard Lowenthal\, this free concert will feature GRAMMY Award-winning guest artist&nbsp\;<strong>Paquito D&rsquo\;Rivera</strong>&nbsp\;in a tribute to <strong>WBGO </strong>Newark\, the world&rsquo\;s flagship jazz radio station\, and the 80</span><sup><span style="color:black\;"><span style="font-size:8.5pt\;">th</span></span></sup><span style="color:black\;">&nbsp\;anniversary of the Benny Goodman Orchestra&rsquo\;s landmark performance at Carnegie Hall. Food trucks will be on-site and seating is unreserved. In event of rain\, the concert will be held in the Harborside Atrium\, Harborside 2 and 3 at 34 Exchange Place. The J. Owen Grundy Pier is located near public transportation and there are numerous parking lots in the area.</span>
LOCATION:J. Owen Grundy Pier\, Exchange Place\, in Jersey City
UID:e.2857.332
SEQUENCE:3
DTSTAMP:20260424T160958Z
URL:https://business.shccnj.org/events/details/njcu-alumni-jazz-big-band-332
END:VEVENT

END:VCALENDAR
