BEGIN:VCALENDAR
VERSION:2.0
PRODID:-//ChamberMaster//Event Calendar 2.0//EN
METHOD:PUBLISH
X-PUBLISHED-TTL:P3D
REFRESH-INTERVAL:P3D
CALSCALE:GREGORIAN
BEGIN:VEVENT
DTSTART:20240926T204500Z
DTEND:20240927T010000Z
X-MICROSOFT-CDO-ALLDAYEVENT:FALSE
SUMMARY:NJ Join Garden State Gay Socials Gay Guys at our Glow & Golf: Black light Extravaganza
DESCRIPTION:New Event Experience by Garden State Gay Socials Following American Dream Wheel's Operating Company's reluctance to work with us. Meet some great NJ Gay Guys and have a great evening at American Dream Mall. Event Details: Event Name: NJ Gay Guys: Glow & Golf: Blacklight Extravaganza Date: Thursday Sep 26\, 2024 Location: American Dream Mall Time: 4:45PM Ticket Price: [Early Bird Combo Tickets are under $59.00 with all fees and taxes. (Please note: We are upfront about our ticket pricing and any additional charges.) The Glow & Golf: Blacklight Extravaganza will immerse participants in a glowing environment with black light effects\, creating a surreal and exciting atmosphere. Attendees can enjoy mini-golf\, illuminated by vibrant colors\, adding a new dimension to the game. Additionally\, we have arranged for a VIP Gold Cabin that offers an exclusive space for a more private and luxurious experience. This VIP section ensures comfort and a premium view of the event. Mr. Beast Burger Restaurant will provide Burgers\, Fries\, Beverage\, a cookie and will have a special desert treat to make sure our guests have a satisfying dining experience while they enjoy the event. From savory burgers to chicken sandwiches and also vegan option\, there's something for everyone to enjoy. We are committed to providing high-quality social events for gay men across New Jersey. Garden State Gay Socials has always been transparent about our mission and identity. While we don't believe discrimination was a factor in this case\, we strive to foster inclusivity and understanding in all our interactions. We are also actively seeking sponsors to help fund our events\, enabling us to offer lower ticket prices to our attendees. Sponsorships play a crucial role in ensuring our events are accessible and enjoyable for all. Thank you to everyone for your unwavering support and for helping Garden State Gay Socials continue to grow and thrive. We look forward to seeing you at NJ Gay Guys: Glow & Golf: Blacklight Extravaganza and at our future events. Get Your Tickets Early! Save your spot at http://m4mlgbtevents.eventbrite.com Also\, be sure to sign up for the Guy Gay Spectrum Newsletter to stay updated on our events and receive discounts: https://t.ly/rhCVd. We host entertaining events for gay men monthly throughout New Jersey. #GayGuys #GayCommunity #Socialize #FriendshipGoals #LGBTQEvents #SupportLocal #GayMen #americandream
X-ALT-DESC;FMTTYPE=text/html:New Event Experience by Garden State Gay Socials Following American Dream Wheel&#39\;s Operating Company&#39\;s reluctance to work with us. Meet some great NJ Gay Guys and have a great evening at American Dream Mall. Event Details: Event Name: NJ Gay Guys: Glow &amp\; Golf: Blacklight Extravaganza Date: Thursday Sep 26\, 2024 Location: American Dream Mall Time: 4:45PM Ticket Price: [Early Bird Combo Tickets are under $59.00 with all fees and taxes. (Please note: We are upfront about our ticket pricing and any additional charges.) The Glow &amp\; Golf: Blacklight Extravaganza will immerse participants in a glowing environment with black light effects\, creating a surreal and exciting atmosphere. Attendees can enjoy mini-golf\, illuminated by vibrant colors\, adding a new dimension to the game. Additionally\, we have arranged for a VIP Gold Cabin that offers an exclusive space for a more private and luxurious experience. This VIP section ensures comfort and a premium view of the event. Mr. Beast Burger Restaurant will provide Burgers\, Fries\, Beverage\, a cookie and will have a special desert treat to make sure our guests have a satisfying dining experience while they enjoy the event. From savory burgers to chicken sandwiches and also vegan option\, there&#39\;s something for everyone to enjoy. We are committed to providing high-quality social events for gay men across New Jersey. Garden State Gay Socials has always been transparent about our mission and identity. While we don&#39\;t believe discrimination was a factor in this case\, we strive to foster inclusivity and understanding in all our interactions. We are also actively seeking sponsors to help fund our events\, enabling us to offer lower ticket prices to our attendees. Sponsorships play a crucial role in ensuring our events are accessible and enjoyable for all. Thank you to everyone for your unwavering support and for helping Garden State Gay Socials continue to grow and thrive. We look forward to seeing you at NJ Gay Guys: Glow &amp\; Golf: Blacklight Extravaganza and at our future events. Get Your Tickets Early! Save your spot at http://m4mlgbtevents.eventbrite.com Also\, be sure to sign up for the Guy Gay Spectrum Newsletter to stay updated on our events and receive discounts: https://t.ly/rhCVd. We host entertaining events for gay men monthly throughout New Jersey. #GayGuys #GayCommunity #Socialize #FriendshipGoals #LGBTQEvents #SupportLocal #GayMen #americandream
LOCATION:American Dream Mall 1 American Dream Way East Rutherford\, NJ 07073
UID:e.2857.2040
SEQUENCE:3
DTSTAMP:20260423T171008Z
URL:https://business.shccnj.org/events/details/nj-join-garden-state-gay-socials-gay-guys-at-our-glow-golf-black-light-extravaganza-2040
END:VEVENT

END:VCALENDAR
