BEGIN:VCALENDAR
VERSION:2.0
PRODID:-//ChamberMaster//Event Calendar 2.0//EN
METHOD:PUBLISH
X-PUBLISHED-TTL:P3D
REFRESH-INTERVAL:P3D
CALSCALE:GREGORIAN
BEGIN:VEVENT
DTSTART:20161102T213000Z
DTEND:20161103T000000Z
X-MICROSOFT-CDO-ALLDAYEVENT:FALSE
SUMMARY:NJ Immigrant Entrepreneur Awards Cocktail Reception
DESCRIPTION:The SHCCNJ proudly hosts The 4th Annual Immigrant Entrepreneur Awards\, recognizing businesspersons that exemplify leadership in our communities.  The Awards highlight the many contributions made by first generation immigrants that effectuate New Jersey's culture and economy. \n\n \n\n \n\nThe 2016 winners are shown with their country of origin\, their businesses and New Jersey town:\n\n \n\n2016 Immigrant Entrepreneur of the Year\n\nJos  "Pepe" Garc a | Cuba | Maverick Building Services |Rutherford\n\n \n\nDavid Sarnoff Award for Advocacy and Community Engagement \n\nMarino Posso | Columbia | Advertise IT | Trenton\n\n \n\nNicolas Marcalus Award for Sustainability\n\nDr. Tavit O. Najarian\, Sc.D. | Lebanon | Najarian Associates | Eatontown\n\n \n\nGeorge Perrott Macculloch Award for Leadership\n\nMeiling Lee Kravarik | China | Nextage M3 Realty | Edison\n\n \n\nAlbert Einstein Award for Innovation\n\nV. Balasubramanian\, Ph.D. | India | Cabeus\, Inc. | Princeton\n\n \n\nCaspar Wistar Award for Growth\n\nDennis Zhang | China | 24-7 International LLC | Pine Brook\n\n  \n\nRising Star Entrepreneurial Award\n\nSpoothi Kumar | India | Hidden Grounds Coffee Shop | New Brunswick\n\n \n\nSpecial Award for Immigrant Accomplishment\n\nDr. Jianping Wang | China | President\, Mercer County Community College | West Windsor\n\n \n\nHonorable Mentions go to: \n\nLeo Cervantes | Mexico | Chilangos Restaurant | Highlands\n\nJuan Carlos Lopez | Columbia | Nema Associates | Linden\n\nMario Camino | Ecuador | Arkad Group | Plainfield\n\n \n\n \n\nThe New Jersey Immigrant Entrepreneur Awards were created in partnership with the following organizations:\n\n American Jewish Committee of New Jersey\n\nAsian Indian Chamber of Commerce\n\nDiversity Dynamics\n\nEinstein's Alley\n\nMIDJersey Chamber of Commerce\n\nMorris County Chamber of Commerce\n\nNew Jersey Business & Industry Association\n\nNew Jersey Chinese- American Chamber of Commerce\n\nNew Jersey Historical Commission\n\nNew Jersey Main Street Alliance\n\nPrinceton Regional Chamber of Commerce\n\nStatewide Hispanic Chamber of Commerce of New Jersey\n\nUnion County Latin American Chamber of Commerce\n\n \n\n  \n\n*Program Book Ads Available\n\nFull Page:     $150\n\nHalf Page:    $75 \n\nQuarter Page:    $25\n\n  \n\n*Please provide color camera-ready ad copy. Remit your ad by email as follows:\n\nResolution of 300 dpi in JPG\, TIFF or PDF.  \n\nDimensions: \n\nFULL PAGE (5"W x 8" H)\n\nHALF PAGE (5"W x 3.5" H)\n\nQUARTER PAGE  (2.382" W x 3.875"H). \n\nPlease Submit  Ads by October 26th\, 2016 to: Shirley Pachon: spachon@bergen.edu
X-ALT-DESC;FMTTYPE=text/html:<strong data-mce-style="color: #333333\; font-family: helvetica\;" style="color:rgb(51\, 51\, 51)\;font-family:helvetica\;"><span data-mce-style="font-size: 11.5pt\; letter-spacing: 0.4pt\;" style="letter-spacing:0.4pt\;"><span style="font-size:11.5pt\;">The SHCCNJ proudly hosts The 4th Annual Immigrant Entrepreneur Awards\, recognizing businesspersons&nbsp\;that exemplify leadership in our communities.&nbsp\; The Awards highlight the many contributions made by first generation immigrants that effectuate New Jersey&#39\;s culture and economy.</span></span>&nbsp\;</strong><br />\n&nbsp\;<br />\n&nbsp\;<br />\n<strong><em><span data-mce-style="font-size: 10.0pt\; font-family: 'Arial'\,sans-serif\;"><span style="font-family:arial\,sans-serif\;"><span style="font-size:10pt\;">The 2016 winners are shown with their country of origin\, their businesses and New Jersey town:</span></span></span></em></strong><br />\n&nbsp\;<br />\n<span data-mce-style="text-decoration: underline\;" style="text-decoration:underline\;"><strong><span data-mce-style="font-size: 10.0pt\; font-family: 'Arial'\,sans-serif\;"><span style="font-family:arial\,sans-serif\;"><span style="font-size:10pt\;">2016 Immigrant Entrepreneur of the Year</span></span></span></strong></span><br />\n<span data-mce-style="font-size: 10.0pt\; font-family: 'Arial'\,sans-serif\;"><span style="font-family:arial\,sans-serif\;"><span style="font-size:10pt\;">Jos&eacute\; &ldquo\;Pepe&rdquo\; Garc&iacute\;a | Cuba | Maverick Building Services |Rutherford</span></span></span><br />\n&nbsp\;<br />\n<span data-mce-style="text-decoration: underline\;" style="text-decoration:underline\;"><strong><span data-mce-style="font-size: 10.0pt\; font-family: 'Arial'\,sans-serif\;"><span style="font-family:arial\,sans-serif\;"><span style="font-size:10pt\;">David Sarnoff Award for Advocacy and Community Engagement</span></span></span></strong>&nbsp\;</span><br />\n<span data-mce-style="font-size: 10.0pt\; font-family: 'Arial'\,sans-serif\;"><span style="font-family:arial\,sans-serif\;"><span style="font-size:10pt\;">Marino Posso | Columbia | Advertise IT | Trenton</span></span></span><br />\n&nbsp\;<br />\n<span data-mce-style="text-decoration: underline\;" style="text-decoration:underline\;"><strong><span data-mce-style="font-size: 10.0pt\; font-family: 'Arial'\,sans-serif\;"><span style="font-family:arial\,sans-serif\;"><span style="font-size:10pt\;">Nicolas Marcalus Award for Sustainability</span></span></span></strong></span><br />\n<span data-mce-style="font-size: 10.0pt\; font-family: 'Arial'\,sans-serif\;"><span style="font-family:arial\,sans-serif\;"><span style="font-size:10pt\;">Dr. Tavit O. Najarian\, Sc.D. | Lebanon | Najarian Associates | Eatontown</span></span></span><br />\n&nbsp\;<br />\n<span data-mce-style="text-decoration: underline\;" style="text-decoration:underline\;"><strong><span data-mce-style="font-size: 10.0pt\; font-family: 'Arial'\,sans-serif\;"><span style="font-family:arial\,sans-serif\;"><span style="font-size:10pt\;">George Perrott Macculloch Award for Leadership</span></span></span></strong></span><br />\n<span data-mce-style="font-size: 10.0pt\; font-family: 'Arial'\,sans-serif\;"><span style="font-family:arial\,sans-serif\;"><span style="font-size:10pt\;">Meiling Lee Kravarik | China | Nextage M3 Realty | Edison</span></span></span><br />\n&nbsp\;<br />\n<span data-mce-style="text-decoration: underline\;" style="text-decoration:underline\;"><strong><span data-mce-style="font-size: 10.0pt\; font-family: 'Arial'\,sans-serif\;"><span style="font-family:arial\,sans-serif\;"><span style="font-size:10pt\;">Albert Einstein Award for Innovation</span></span></span></strong></span><br />\n<span data-mce-style="font-size: 10.0pt\; font-family: 'Arial'\,sans-serif\;"><span style="font-family:arial\,sans-serif\;"><span style="font-size:10pt\;">V. Balasubramanian\, Ph.D. | India | Cabeus\, Inc. | Princeton</span></span></span><br />\n&nbsp\;<br />\n<span data-mce-style="text-decoration: underline\;" style="text-decoration:underline\;"><strong><span data-mce-style="font-size: 10.0pt\; font-family: 'Arial'\,sans-serif\;"><span style="font-family:arial\,sans-serif\;"><span style="font-size:10pt\;">Caspar Wistar Award for Growth</span></span></span></strong></span><br />\n<span data-mce-style="font-size: 10.0pt\; font-family: 'Arial'\,sans-serif\;"><span style="font-family:arial\,sans-serif\;"><span style="font-size:10pt\;">Dennis Zhang |&nbsp\;</span></span></span><span data-mce-style="font-size: 10.0pt\; font-family: 'Arial'\,sans-serif\;"><span style="font-family:arial\,sans-serif\;"><span style="font-size:10pt\;">China | 24-7 International LLC | Pine Brook</span></span></span><br />\n&nbsp\;&nbsp\;<br />\n<span data-mce-style="text-decoration: underline\;" style="text-decoration:underline\;"><strong><span data-mce-style="font-size: 10.0pt\; font-family: 'Arial'\,sans-serif\;"><span style="font-family:arial\,sans-serif\;"><span style="font-size:10pt\;">Rising Star Entrepreneurial Award</span></span></span></strong></span><br />\n<span data-mce-style="font-size: 10.0pt\; font-family: 'Arial'\,sans-serif\;"><span style="font-family:arial\,sans-serif\;"><span style="font-size:10pt\;">Spoothi Kumar | India | Hidden Grounds Coffee Shop | New Brunswick</span></span></span><br />\n&nbsp\;<br />\n<span data-mce-style="text-decoration: underline\;" style="text-decoration:underline\;"><strong><span data-mce-style="font-size: 10.0pt\; font-family: 'Arial'\,sans-serif\;"><span style="font-family:arial\,sans-serif\;"><span style="font-size:10pt\;">Special Award for Immigrant Accomplishment</span></span></span></strong></span><br />\n<span data-mce-style="font-size: 10.0pt\; font-family: 'Arial'\,sans-serif\;"><span style="font-family:arial\,sans-serif\;"><span style="font-size:10pt\;">Dr. Jianping Wang | China | President\,&nbsp\;</span></span></span><span data-mce-style="font-size: 10.0pt\; font-family: 'Arial'\,sans-serif\;"><span style="font-family:arial\,sans-serif\;"><span style="font-size:10pt\;">Mercer County Community College | West Windsor</span></span></span><br />\n&nbsp\;<br />\n<strong><em><span data-mce-style="font-size: 10.0pt\; font-family: 'Arial'\,sans-serif\;"><span style="font-family:arial\,sans-serif\;"><span style="font-size:10pt\;">Honorable&nbsp\;<span data-mce-style="font-size: small\;"><span style="font-size:small\;">Mentions</span></span></span></span></span><span data-mce-style="font-size: 10.0pt\; font-family: 'Arial'\,sans-serif\;"><span style="font-family:arial\,sans-serif\;"><span style="font-size:10pt\;">&nbsp\;go to:&nbsp\;</span></span></span></em></strong><br />\n<span data-mce-style="font-size: 10.0pt\; font-family: 'Arial'\,sans-serif\;"><span style="font-family:arial\,sans-serif\;"><span style="font-size:10pt\;">Leo Cervantes | Mexico | Chilangos Restaurant | Highlands</span></span></span><br />\n<span data-mce-style="font-size: 10.0pt\; font-family: 'Arial'\,sans-serif\;"><span style="font-family:arial\,sans-serif\;"><span style="font-size:10pt\;">Juan Carlos Lopez | Columbia | Nema Associates | Linden</span></span></span><br />\n<span data-mce-style="font-size: 10.0pt\; font-family: 'Arial'\,sans-serif\;"><span style="font-family:arial\,sans-serif\;"><span style="font-size:10pt\;">Mario Camino | Ecuador | Arkad Group | Plainfield</span></span></span><br />\n&nbsp\;<br />\n&nbsp\;<br />\n<em><span data-mce-style="font-size: small\; font-family: arial\, helvetica\, sans-serif\;"><span style="font-family:arial\,helvetica\,sans-serif\;"><span style="font-size:small\;"><span data-mce-style="color: #333333\;"><span style="color:#333333\;"><strong><span data-mce-style="letter-spacing: 0.4pt\;" style="letter-spacing:0.4pt\;">The New Jersey Immigrant Entrepreneur Awards were created in partnership&nbsp\;</span></strong></span></span><span data-mce-style="color: #333333\;"><span style="color:#333333\;"><strong><span data-mce-style="letter-spacing: 0.4pt\;" style="letter-spacing:0.4pt\;">with the following organizations:</span></strong></span></span></span></span></span></em><br />\n<span data-mce-style="font-family: arial\, helvetica\, sans-serif\; font-size: small\;"><span style="font-size:small\;"><span style="font-family:arial\,helvetica\,sans-serif\;">&nbsp\;<em data-mce-style="line-height: 16.5pt\;" style="line-height:16.5pt\;"><span data-mce-style="letter-spacing: 0.4pt\;" style="letter-spacing:0.4pt\;">American Jewish Committee of New Jersey</span></em></span></span></span><br />\n<span data-mce-style="font-family: arial\, helvetica\, sans-serif\; font-size: small\;"><span style="font-size:small\;"><span style="font-family:arial\,helvetica\,sans-serif\;"><em><span data-mce-style="letter-spacing: 0.4pt\;" style="letter-spacing:0.4pt\;">Asian Indian Chamber of Commerce</span></em></span></span></span><br />\n<span data-mce-style="font-family: arial\, helvetica\, sans-serif\; font-size: small\;"><span style="font-size:small\;"><span style="font-family:arial\,helvetica\,sans-serif\;"><em><span data-mce-style="letter-spacing: 0.4pt\;" style="letter-spacing:0.4pt\;">Diversity Dynamics</span></em></span></span></span><br />\n<span data-mce-style="font-family: arial\, helvetica\, sans-serif\; font-size: small\;"><span style="font-size:small\;"><span style="font-family:arial\,helvetica\,sans-serif\;"><em><span data-mce-style="letter-spacing: 0.4pt\;" style="letter-spacing:0.4pt\;">Einstein&rsquo\;s Alley</span></em></span></span></span><br />\n<span data-mce-style="font-family: arial\, helvetica\, sans-serif\; font-size: small\;"><span style="font-size:small\;"><span style="font-family:arial\,helvetica\,sans-serif\;"><em><span data-mce-style="letter-spacing: 0.4pt\;" style="letter-spacing:0.4pt\;">MIDJersey Chamber of Commerce</span></em></span></span></span><br />\n<span data-mce-style="font-family: arial\, helvetica\, sans-serif\; font-size: small\;"><span style="font-size:small\;"><span style="font-family:arial\,helvetica\,sans-serif\;"><em><span data-mce-style="letter-spacing: 0.4pt\;" style="letter-spacing:0.4pt\;">Morris County Chamber of Commerce</span></em></span></span></span><br />\n<span data-mce-style="font-family: arial\, helvetica\, sans-serif\; font-size: small\;"><span style="font-size:small\;"><span style="font-family:arial\,helvetica\,sans-serif\;"><em><span data-mce-style="letter-spacing: 0.4pt\;" style="letter-spacing:0.4pt\;">New Jersey Business &amp\; Industry Association</span></em></span></span></span><br />\n<span data-mce-style="font-family: arial\, helvetica\, sans-serif\; font-size: small\;"><span style="font-size:small\;"><span style="font-family:arial\,helvetica\,sans-serif\;"><em><span data-mce-style="letter-spacing: 0.4pt\;" style="letter-spacing:0.4pt\;">New Jersey Chinese- American Chamber of Commerce</span></em></span></span></span><br />\n<span data-mce-style="font-family: arial\, helvetica\, sans-serif\; font-size: small\;"><span style="font-size:small\;"><span style="font-family:arial\,helvetica\,sans-serif\;"><em><span data-mce-style="letter-spacing: 0.4pt\;" style="letter-spacing:0.4pt\;">New Jersey Historical Commission</span></em></span></span></span><br />\n<span data-mce-style="font-family: arial\, helvetica\, sans-serif\; font-size: small\;"><span style="font-size:small\;"><span style="font-family:arial\,helvetica\,sans-serif\;"><em><span data-mce-style="letter-spacing: 0.4pt\;" style="letter-spacing:0.4pt\;">New Jersey Main Street Alliance</span></em></span></span></span><br />\n<span data-mce-style="font-family: arial\, helvetica\, sans-serif\; font-size: small\;"><span style="font-size:small\;"><span style="font-family:arial\,helvetica\,sans-serif\;"><em><span data-mce-style="letter-spacing: 0.4pt\;" style="letter-spacing:0.4pt\;">Princeton Regional Chamber of Commerce</span></em></span></span></span><br />\n<span data-mce-style="font-family: arial\, helvetica\, sans-serif\; font-size: small\;"><span style="font-size:small\;"><span style="font-family:arial\,helvetica\,sans-serif\;"><em><span data-mce-style="letter-spacing: 0.4pt\;" style="letter-spacing:0.4pt\;">Statewide Hispanic Chamber of Commerce of New Jersey</span></em></span></span></span><br />\n<span data-mce-style="font-family: arial\, helvetica\, sans-serif\; font-size: small\;"><span style="font-size:small\;"><span style="font-family:arial\,helvetica\,sans-serif\;"><em><span data-mce-style="letter-spacing: 0.4pt\;" style="letter-spacing:0.4pt\;">Union County Latin American Chamber of Commerce</span></em></span></span></span><br />\n&nbsp\;<br />\n&nbsp\;&nbsp\;<br />\n<span data-mce-style="color: #333333\; background-color: #ffffff\;"><span style="color:#333333\;"><strong><span data-mce-style="text-decoration: underline\; font-family: helvetica\;" style="text-decoration:underline\;"><span style="font-family:helvetica\;">*Program Book Ads Available</span></span></strong></span></span><br />\n<span data-mce-style="color: #333333\; background-color: #ffffff\;"><span style="color:#333333\;"><strong><span data-mce-style="font-family: helvetica\;"><span style="font-family:helvetica\;">Full Page: &nbsp\; &nbsp\; $150</span></span></strong></span></span><br />\n<span data-mce-style="color: #333333\; background-color: #ffffff\;"><span style="color:#333333\;"><strong><span data-mce-style="font-family: helvetica\;"><span style="font-family:helvetica\;">Half Page: &nbsp\;&nbsp\;&nbsp\;$75&nbsp\;</span></span></strong></span></span><br />\n<span data-mce-style="color: #333333\; background-color: #ffffff\;"><span style="color:#333333\;"><strong><span data-mce-style="font-family: helvetica\;"><span style="font-family:helvetica\;">Quarter Page: &nbsp\; &nbsp\;$25</span></span></strong></span></span><br />\n&nbsp\;&nbsp\;<br />\n<span data-mce-style="color: #333333\; background-color: #ffffff\;"><span style="color:#333333\;"><strong><span data-mce-style="font-family: helvetica\;"><span style="font-family:helvetica\;">*Please provide color camera-ready ad copy.&nbsp\;Remit your ad by email as follows:</span></span></strong></span></span><br />\n<span data-mce-style="color: #333333\; background-color: #ffffff\;"><span style="color:#333333\;"><strong><span data-mce-style="font-family: helvetica\;"><span style="font-family:helvetica\;">Resolution of 300 dpi in JPG\, TIFF or PDF. &nbsp\;</span></span></strong></span></span><br />\n<span data-mce-style="color: #333333\; background-color: #ffffff\;"><span style="color:#333333\;"><strong><span data-mce-style="font-family: helvetica\;"><span style="font-family:helvetica\;">Dimensions:&nbsp\;</span></span></strong></span></span><br />\n<span data-mce-style="color: #333333\; background-color: #ffffff\;"><span style="color:#333333\;"><strong><span data-mce-style="font-family: helvetica\;"><span style="font-family:helvetica\;">FULL PAGE (5&quot\;W x 8&quot\; H)</span></span></strong></span></span><br />\n<span data-mce-style="color: #333333\; background-color: #ffffff\;"><span style="color:#333333\;"><strong><span data-mce-style="font-family: helvetica\;"><span style="font-family:helvetica\;">HALF PAGE (5&quot\;W x 3.5&quot\; H)</span></span></strong></span></span><br />\n<span data-mce-style="color: #333333\; background-color: #ffffff\;"><span style="color:#333333\;"><strong><span data-mce-style="font-family: helvetica\;"><span style="font-family:helvetica\;">QUARTER PAGE &nbsp\;(2.382&quot\; W x 3.875&quot\;H).&nbsp\;</span></span></strong></span></span><br />\n<u><span data-mce-style="text-decoration: underline\;" style="text-decoration:underline\;"><span data-mce-style="color: #333333\; background-color: #ffffff\;"><span style="color:#333333\;"><strong><span data-mce-style="font-family: helvetica\;"><span style="font-family:helvetica\;">Please Submit &nbsp\;Ads by October 26th\, 2016 to:&nbsp\;Shirley Pachon: spachon@bergen.edu</span></span></strong></span></span></span></u>
LOCATION:1280 Wall Street W Lyndhurst\, NJ 07071
UID:e.2857.39
SEQUENCE:3
DTSTAMP:20260423T121245Z
URL:https://business.shccnj.org/events/details/nj-immigrant-entrepreneur-awards-cocktail-reception-39
END:VEVENT

END:VCALENDAR
