BEGIN:VCALENDAR
VERSION:2.0
PRODID:-//ChamberMaster//Event Calendar 2.0//EN
METHOD:PUBLISH
X-PUBLISHED-TTL:P3D
REFRESH-INTERVAL:P3D
CALSCALE:GREGORIAN
BEGIN:VEVENT
DTSTART:20170921T214500Z
DTEND:20170925T020000Z
X-MICROSOFT-CDO-ALLDAYEVENT:FALSE
SUMMARY:MOVIE PREMIERE
DESCRIPTION:The Viva Latino Film Festival NYC International (VLFFI) is the newest Latino international film festival in the country. The film festival is scheduled for September 2017. VLFFI's mission is to showcase the content of emerging and established Latino filmmaking talent in the U.S.\, Mexico and Latin America.
X-ALT-DESC;FMTTYPE=text/html:The Viva Latino Film Festival NYC International (VLFFI) is the newest Latino international film festival in the country. The film festival is scheduled for September 2017. VLFFI&#39\;s mission is to showcase the content of emerging and established Latino filmmaking talent in the U.S.\, Mexico and Latin America.
LOCATION:DCTV ground floor space 87 Lafayette St New York\, New York 10013
UID:e.2857.216
SEQUENCE:3
DTSTAMP:20260424T003101Z
URL:https://business.shccnj.org/events/details/movie-premiere-216
END:VEVENT

END:VCALENDAR
