BEGIN:VCALENDAR
VERSION:2.0
PRODID:-//ChamberMaster//Event Calendar 2.0//EN
METHOD:PUBLISH
X-PUBLISHED-TTL:P3D
REFRESH-INTERVAL:P3D
CALSCALE:GREGORIAN
BEGIN:VEVENT
DTSTART;VALUE=DATE:20160324
DTEND;VALUE=DATE:20160325
TRANSP:TRANSPARENT
X-MICROSOFT-CDO-ALLDAYEVENT:TRUE
SUMMARY:LuxuryHaus Networking Event
DESCRIPTION:LuxuryHaus Networking Event
X-ALT-DESC;FMTTYPE=text/html:LuxuryHaus Networking Event
LOCATION:
UID:e.2857.31
SEQUENCE:3
DTSTAMP:20260423T013625Z
URL:https://business.shccnj.org/events/details/luxuryhaus-networking-event-03-24-2016-31
END:VEVENT

END:VCALENDAR
