BEGIN:VCALENDAR
VERSION:2.0
PRODID:-//ChamberMaster//Event Calendar 2.0//EN
METHOD:PUBLISH
X-PUBLISHED-TTL:P3D
REFRESH-INTERVAL:P3D
CALSCALE:GREGORIAN
BEGIN:VEVENT
DTSTART;VALUE=DATE:20160107
DTEND;VALUE=DATE:20160108
TRANSP:TRANSPARENT
X-MICROSOFT-CDO-ALLDAYEVENT:TRUE
SUMMARY:Los Reyes Magos Celebration at Son Cubano
DESCRIPTION:Los Reyes Magos Celebration at Son Cubano
X-ALT-DESC;FMTTYPE=text/html:Los Reyes Magos Celebration at Son Cubano
LOCATION:
UID:e.2857.25
SEQUENCE:3
DTSTAMP:20260422T225546Z
URL:https://business.shccnj.org/events/details/los-reyes-magos-celebration-at-son-cubano-01-07-2016-25
END:VEVENT

END:VCALENDAR
