BEGIN:VCALENDAR
VERSION:2.0
PRODID:-//ChamberMaster//Event Calendar 2.0//EN
METHOD:PUBLISH
X-PUBLISHED-TTL:P3D
REFRESH-INTERVAL:P3D
CALSCALE:GREGORIAN
BEGIN:VEVENT
DTSTART;VALUE=DATE:20180119
DTEND;VALUE=DATE:20180120
TRANSP:TRANSPARENT
X-MICROSOFT-CDO-ALLDAYEVENT:TRUE
SUMMARY:Last day for HETP applications
DESCRIPTION:The classes are free to attend.\n\nThe class will consist of 20-25 participants who have a new or existing business (5 years or less). A bi-lingual instructor will guide them in developing and refining their ideas into a sustainable business. During the 60-hour course\, participants will put together a comprehensive business plan\, will gain an understanding of the foundational principles of day-to-day operations\, and will be exposed to several subject-matter experts and panels. At the end of the course\, participants will be provided one-on-one mentorship/coaching to further develop their business plans or to focus on a specific area of their interest.\n\nClasses will commence in February of 2018 and will consist of 15 Friday morning sessions of 4 hours each.\n\nPlease complete your application and submit it as soon as possible. SPACES ARE LIMITED.
X-ALT-DESC;FMTTYPE=text/html:<p class="font_5" color:="" noticia="" style="margin: 0px\; padding: 0px\; border: 0px\; outline: 0px\; vertical-align: baseline\; background-image: initial\; background-position: initial\; background-size: initial\; background-repeat: initial\; background-attachment: initial\; background-origin: initial\; background-clip: initial\; font-variant-numeric: normal\; font-variant-east-asian: normal\; font-weight: normal\; font-stretch: normal\; font-size: 36px\; line-height: normal\;" text-align:=""><span style="font-size:9px\;">The classes are free to attend.<br />\nThe class will consist of 20-25 participants who have a new or existing business (5 years or less). A bi-lingual instructor will guide them in developing and refining their ideas into a sustainable business. During the 60-hour course\, participants will put together a comprehensive business plan\, will gain an understanding of the foundational principles of day-to-day operations\, and will be exposed to several subject-matter experts and panels. At the end of the course\, participants will be provided one-on-one mentorship/coaching to further develop their business plans or to focus on a specific area of their interest.<br />\nClasses will commence in February of 2018 and will consist of 15 Friday morning sessions of 4 hours each.<br />\nPlease complete your application and submit it as soon as possible. SPACES ARE LIMITED.</span><br />\n<br />\n&nbsp\;</p>\n\n<p class="font_5" color:="" noticia="" style="margin: 0px\; padding: 0px\; border: 0px\; outline: 0px\; vertical-align: baseline\; background-image: initial\; background-position: initial\; background-size: initial\; background-repeat: initial\; background-attachment: initial\; background-origin: initial\; background-clip: initial\; font-variant-numeric: normal\; font-variant-east-asian: normal\; font-weight: normal\; font-stretch: normal\; font-size: 36px\; line-height: normal\;" text-align:="">&nbsp\;</p>\n
LOCATION:
UID:e.2857.280
SEQUENCE:3
DTSTAMP:20260424T065908Z
URL:https://business.shccnj.org/events/details/last-day-for-hetp-applications-280
END:VEVENT

END:VCALENDAR
