BEGIN:VCALENDAR
VERSION:2.0
PRODID:-//ChamberMaster//Event Calendar 2.0//EN
METHOD:PUBLISH
X-PUBLISHED-TTL:P3D
REFRESH-INTERVAL:P3D
CALSCALE:GREGORIAN
BEGIN:VEVENT
DTSTART:20171010T213000Z
DTEND:20171011T000000Z
X-MICROSOFT-CDO-ALLDAYEVENT:FALSE
SUMMARY:Jersey City Franchisee Business Opportunity
DESCRIPTION:Los Taxes\, the First Latino Franchise of Tax Preparation in America is in New Jersey and brings an opportunity to change the life style for your family and loved ones.  Give yourself an opportunity to learn how you can tap into the 1.5 Trillion dollars in buying power our Latino community spent in 2016.  \n\n\n\nYou can also learn details on the 10 Billion dollars industry and how the combination with the largest and fastest growing ethnic group creates a business opportunity.\n\n\n\nWe hope to see you on the 10th in Jersey City.\n\n\n\nBest\,\n\n\n\nJavier\n\nFounder
X-ALT-DESC;FMTTYPE=text/html:<span style="font-family:arial\,sans-serif"><span style="font-size:10pt">Los Taxes\, the First Latino Franchise of Tax Preparation in America is in New Jersey and brings an opportunity to change the life style for your family and loved ones. &nbsp\;Give yourself an opportunity to learn how you can tap into the 1.5 Trillion dollars in buying power our Latino community spent in 2016. &nbsp\;</span></span><br />\n<br />\n<span style="font-family:arial\,sans-serif"><span style="font-size:10pt">You can also learn details on the 10 Billion dollars industry and how the combination with the largest and fastest growing ethnic group creates a business opportunity.<br />\n<br />\nWe hope to see you on the 10th in Jersey City.<br />\n<br />\nBest\,<br />\n<br />\nJavier<br />\nFounder</span></span><br />\n&nbsp\;
LOCATION:WorkSocial 111 Town Square Pl.\, Suite 313 Jersey City\, NJ 07310
UID:e.2857.219
SEQUENCE:3
DTSTAMP:20260424T014220Z
URL:https://business.shccnj.org/events/details/jersey-city-franchisee-business-opportunity-219
END:VEVENT

END:VCALENDAR
