BEGIN:VCALENDAR
VERSION:2.0
PRODID:-//ChamberMaster//Event Calendar 2.0//EN
METHOD:PUBLISH
X-PUBLISHED-TTL:P3D
REFRESH-INTERVAL:P3D
CALSCALE:GREGORIAN
BEGIN:VEVENT
DTSTART;VALUE=DATE:20160810
DTEND;VALUE=DATE:20160811
TRANSP:TRANSPARENT
X-MICROSOFT-CDO-ALLDAYEVENT:TRUE
SUMMARY:Hudson County Entrepreneurship Training Program Seminar
DESCRIPTION:Hudson County Entrepreneurship Training Program Seminar
X-ALT-DESC;FMTTYPE=text/html:Hudson County Entrepreneurship Training Program Seminar
LOCATION:
UID:e.2857.38
SEQUENCE:3
DTSTAMP:20260423T081748Z
URL:https://business.shccnj.org/events/details/hudson-county-entrepreneurship-training-program-seminar-08-10-2016-38
END:VEVENT

END:VCALENDAR
