BEGIN:VCALENDAR
VERSION:2.0
PRODID:-//ChamberMaster//Event Calendar 2.0//EN
METHOD:PUBLISH
X-PUBLISHED-TTL:P3D
REFRESH-INTERVAL:P3D
CALSCALE:GREGORIAN
BEGIN:VEVENT
DTSTART;VALUE=DATE:20160714
DTEND;VALUE=DATE:20160715
TRANSP:TRANSPARENT
X-MICROSOFT-CDO-ALLDAYEVENT:TRUE
SUMMARY:Hudson County Entrepreneurship Training Program Class of 2016
DESCRIPTION:Hudson County Entrepreneurship Training Program Class of 2016
X-ALT-DESC;FMTTYPE=text/html:Hudson County Entrepreneurship Training Program Class of 2016
LOCATION:
UID:e.2857.36
SEQUENCE:3
DTSTAMP:20260423T070701Z
URL:https://business.shccnj.org/events/details/hudson-county-entrepreneurship-training-program-class-of-2016-07-14-2016-36
END:VEVENT

END:VCALENDAR
