BEGIN:VCALENDAR
VERSION:2.0
PRODID:-//ChamberMaster//Event Calendar 2.0//EN
METHOD:PUBLISH
X-PUBLISHED-TTL:P3D
REFRESH-INTERVAL:P3D
CALSCALE:GREGORIAN
BEGIN:VEVENT
DTSTART;VALUE=DATE:20151117
DTEND;VALUE=DATE:20151118
TRANSP:TRANSPARENT
X-MICROSOFT-CDO-ALLDAYEVENT:TRUE
SUMMARY:Hospitality Fiesta in Atlantic City 2015
DESCRIPTION:Hospitality Fiesta in Atlantic City 2015
X-ALT-DESC;FMTTYPE=text/html:Hospitality Fiesta in Atlantic City 2015
LOCATION:
UID:e.2857.22
SEQUENCE:3
DTSTAMP:20260422T202447Z
URL:https://business.shccnj.org/events/details/hospitality-fiesta-in-atlantic-city-2015-11-17-2015-22
END:VEVENT

END:VCALENDAR
