BEGIN:VCALENDAR
VERSION:2.0
PRODID:-//ChamberMaster//Event Calendar 2.0//EN
METHOD:PUBLISH
X-PUBLISHED-TTL:P3D
REFRESH-INTERVAL:P3D
CALSCALE:GREGORIAN
BEGIN:VEVENT
DTSTART;VALUE=DATE:20141118
DTEND;VALUE=DATE:20141119
TRANSP:TRANSPARENT
X-MICROSOFT-CDO-ALLDAYEVENT:TRUE
SUMMARY:Hospitality Fiesta in Atlantic City
DESCRIPTION:Hospitality Fiesta in Atlantic City
X-ALT-DESC;FMTTYPE=text/html:Hospitality Fiesta in Atlantic City
LOCATION:
UID:e.2857.14
SEQUENCE:3
DTSTAMP:20260422T184603Z
URL:https://business.shccnj.org/events/details/hospitality-fiesta-in-atlantic-city-11-18-2014-14
END:VEVENT

END:VCALENDAR
