BEGIN:VCALENDAR
VERSION:2.0
PRODID:-//ChamberMaster//Event Calendar 2.0//EN
METHOD:PUBLISH
X-PUBLISHED-TTL:P3D
REFRESH-INTERVAL:P3D
CALSCALE:GREGORIAN
BEGIN:VEVENT
DTSTART:20170122T180000Z
DTEND:20170122T200000Z
X-MICROSOFT-CDO-ALLDAYEVENT:FALSE
SUMMARY:Horizon Brunch con Beneficios
DESCRIPTION:Fernando's mom was on a mission. She woke him up at 7:30 on a Saturday morning\, dragged him to a local health fair\, and forced him to meet with someone who could sign him up for insurance under the Affordable Care Act (ACA). \n\n\n\nThanks to his mom\, Fernando found out he could get financial help to enroll in a comprehensive plan that would cost him just $42 a month.\n\n\n\n"I was forced to come here   but now I can walk away a covered man\," he shared with a local reporter.\n\n\nChalk it up to the power of MOMS. \n\nAnd GIRLFRIENDS.\n\nAnd SISTERS\n\nWhile plenty of men and women benefit from the Affordable Care Act\, women benefit particularly from new protections and new possibilities because they're historically the healthcare decision-makers in families. \n\n\n\nAs women\, we are uniquely poised to play a powerful role as messengers for friends\, family members and entire community.\n\n\n\nJoin us to learn more about how The Affordable Care Act changes will affect you and help someone you love get covered or stay covered before this Open Enrollment period ends. All while enjoying a delicious brunch at Mojitos restaurant.  \n\nOpportunity to win great health/wellness prizes too!!\n\nRSVP by January 20\, 2017\n\nLimited Seating
X-ALT-DESC;FMTTYPE=text/html:<div data-block="true" data-editor="7uot4" data-offset-key="705cc-0-0">\n<div data-offset-key="705cc-0-0">\n<p style="text-align: center\;"><span style="font-size:16px\;">Fernando&rsquo\;s mom was on a mission. She woke him up at 7:30 on a Saturday morning\, dragged him to a local health fair\, and forced him to meet with someone who could sign him up for insurance under the Affordable Care Act (ACA).&nbsp\;<br />\n<br />\nThanks to his mom\, Fernando found out he could get financial help to enroll in a comprehensive plan that would cost him just $42 a month.<br />\n<br />\n&ldquo\;I was forced to come here &mdash\; but now I can walk away a covered man\,&rdquo\; he shared with a local reporter.</span></p>\n\n<hr />\n<p style="text-align: center\;"><span style="font-size:16px\;">Chalk it up to the<strong>&nbsp\;power of MOMS.&nbsp\;</strong><br />\nAnd&nbsp\;<strong>GIRLFRIENDS.</strong><br />\nAnd&nbsp\;<strong>SISTERS</strong></span></p>\n\n<p><span style="font-size:16px\;">While plenty of men and women benefit from the Affordable Care Act\,&nbsp\;women&nbsp\;benefit particularly from new protections and new possibilities because they&#39\;re historically the healthcare decision-makers in families.&nbsp\;<br />\n<br />\nAs women\, we are uniquely poised to play a powerful role as messengers for friends\, family members and entire community.<br />\n<br />\nJoin us&nbsp\;to learn more about how The Affordable Care Act changes will affect you and help someone you love get covered or stay covered before this Open Enrollment period ends.&nbsp\;All while enjoying a delicious brunch at Mojitos&nbsp\;restaurant. &nbsp\;</span></p>\n\n<p style="text-align: center\;"><span style="font-size:16px\;">Opportunity to&nbsp\;win great health/wellness prizes too!!<br />\n<strong><a href="https://www.eventbrite.com/e/horizon-bcbs-brunch-con-beneficios-at-martinos-cuban-restaurant-tickets-29411517641">RSVP</a>&nbsp\;by January 20\, 2017<br />\nLimited Seating</strong></span></p>\n</div>\n</div>\n
LOCATION:Martino's Cuban Restaurant 212 W Main St Somerville\, NJ 08876
UID:e.2857.47
SEQUENCE:3
DTSTAMP:20260423T145529Z
URL:https://business.shccnj.org/events/details/horizon-brunch-con-beneficios-47
END:VEVENT

END:VCALENDAR
