BEGIN:VCALENDAR
VERSION:2.0
PRODID:-//ChamberMaster//Event Calendar 2.0//EN
METHOD:PUBLISH
X-PUBLISHED-TTL:P3D
REFRESH-INTERVAL:P3D
CALSCALE:GREGORIAN
BEGIN:VEVENT
DTSTART;VALUE=DATE:20160126
DTEND;VALUE=DATE:20160127
TRANSP:TRANSPARENT
X-MICROSOFT-CDO-ALLDAYEVENT:TRUE
SUMMARY:Horizon BCBS Networking with Beneficios Cocktail
DESCRIPTION:Horizon BCBS Networking with Beneficios Cocktail
X-ALT-DESC;FMTTYPE=text/html:Horizon BCBS Networking with Beneficios Cocktail
LOCATION:
UID:e.2857.29
SEQUENCE:3
DTSTAMP:20260422T225505Z
URL:https://business.shccnj.org/events/details/horizon-bcbs-networking-with-beneficios-cocktail-01-26-2016-29
END:VEVENT

END:VCALENDAR
