BEGIN:VCALENDAR
VERSION:2.0
PRODID:-//ChamberMaster//Event Calendar 2.0//EN
METHOD:PUBLISH
X-PUBLISHED-TTL:P3D
REFRESH-INTERVAL:P3D
CALSCALE:GREGORIAN
BEGIN:VEVENT
DTSTART;VALUE=DATE:20160110
DTEND;VALUE=DATE:20160111
TRANSP:TRANSPARENT
X-MICROSOFT-CDO-ALLDAYEVENT:TRUE
SUMMARY:Horizon BCBS Brunch with Benefits with Special Guest Laura Fuentes
DESCRIPTION:Horizon BCBS Brunch with Benefits with Special Guest Laura Fuentes
X-ALT-DESC;FMTTYPE=text/html:Horizon BCBS Brunch with Benefits with Special Guest Laura Fuentes
LOCATION:
UID:e.2857.26
SEQUENCE:3
DTSTAMP:20260422T225723Z
URL:https://business.shccnj.org/events/details/horizon-bcbs-brunch-with-benefits-with-special-guest-laura-fuentes-01-10-2016-26
END:VEVENT

END:VCALENDAR
