BEGIN:VCALENDAR
VERSION:2.0
PRODID:-//ChamberMaster//Event Calendar 2.0//EN
METHOD:PUBLISH
X-PUBLISHED-TTL:P3D
REFRESH-INTERVAL:P3D
CALSCALE:GREGORIAN
BEGIN:VEVENT
DTSTART;VALUE=DATE:20160124
DTEND;VALUE=DATE:20160125
TRANSP:TRANSPARENT
X-MICROSOFT-CDO-ALLDAYEVENT:TRUE
SUMMARY:Horizon BCBS Brunch with Beneficios at Waterside
DESCRIPTION:Horizon BCBS Brunch with Beneficios at Waterside
X-ALT-DESC;FMTTYPE=text/html:Horizon BCBS Brunch with Beneficios at Waterside
LOCATION:
UID:e.2857.28
SEQUENCE:3
DTSTAMP:20260422T225614Z
URL:https://business.shccnj.org/events/details/horizon-bcbs-brunch-with-beneficios-at-waterside-01-24-2016-28
END:VEVENT

END:VCALENDAR
