BEGIN:VCALENDAR
VERSION:2.0
PRODID:-//ChamberMaster//Event Calendar 2.0//EN
METHOD:PUBLISH
X-PUBLISHED-TTL:P3D
REFRESH-INTERVAL:P3D
CALSCALE:GREGORIAN
BEGIN:VEVENT
DTSTART:20170418T210000Z
DTEND:20170418T230000Z
X-MICROSOFT-CDO-ALLDAYEVENT:FALSE
SUMMARY:HETP: Writing for Business
DESCRIPTION:Writing for Business\n\n \n\nBusiness writing is the ability to succinctly convey your messaging.  Whether writing web copy\, emailing a client or putting together a proposal\, your tone effectuates your success.  Our subject matter expert will provide a comprehensive seminar for proper business writing. \n\n\n\n\n\n Escribiendo Para Los Negocios\n\n\n\nEscritura de negocios es la capacidad de transmitir sucintamente su mensajer a. Ya sea escribir copia web\, enviando un correo electr nico a un cliente o la elaboraci n de una propuesta\, su tono efect a su  xito. Nuestro experto en la materia ofrecer  un seminario integral para la escritura de negocios adecuado.\n\n\n\n\n\n\n\nThe SHCCNJ received an operating support grant from the Center for Hispanic Policy\, Research and Development\, a Division of Programs in the Department of State.
X-ALT-DESC;FMTTYPE=text/html:<span style="font-size:18px\;"><strong>Writing for Business</strong></span><br />\n&nbsp\;<br />\n<span style="font-family:arial\;"><span style="font-size:14px\;">Business writing is the ability to succinctly convey your messaging.&nbsp\; Whether writing web copy\, emailing a client or putting together a proposal\, your tone effectuates your success.&nbsp\; Our subject matter expert will provide a comprehensive seminar for proper business writing.&nbsp\;</span></span><br />\n<br />\n<br />\n<span style="font-family:arial\;"><span style="font-size:18px\;"><strong>&#8203\;Escribiendo&nbsp\;Para&nbsp\;Los Negocios</strong></span></span><br />\n<br />\n<span style="font-size:14px\;"><span style="font-family:arial\;">Escritura de negocios es la capacidad de transmitir sucintamente su mensajer&iacute\;a. Ya sea escribir copia web\, enviando un correo electr&oacute\;nico a un cliente o la elaboraci&oacute\;n de una propuesta\, su tono efect&uacute\;a su &eacute\;xito. Nuestro experto en la materia ofrecer&aacute\; un seminario integral para la escritura de negocios adecuado.</span></span><br />\n<br />\n<br />\n<br />\n<em style="color: inherit\; font-family: inherit\; font-size: inherit\; font-variant: inherit\; font-weight: inherit\; letter-spacing: inherit\; text-align: inherit\; text-indent: inherit\; text-transform: inherit\; white-space: inherit\; word-spacing: inherit\; background: none\; border: none\; margin: 0px\; padding: 0px\; vertical-align: baseline\; bottom: auto\; box-sizing: content-box\; clear: none\; content: normal\; direction: inherit\; display: inline\; empty-cells: show\; font-stretch: inherit\; left: auto\; line-height: inherit\; max-height: none\; max-width: none\; min-height: initial\; min-width: initial\; opacity: 1\; outline-offset: 0px\; overflow: visible\; position: static\; resize: none\; right: auto\; table-layout: auto\; text-overflow: clip\; top: auto\; visibility: inherit\; word-break: inherit\; word-wrap: inherit\; z-index: auto\; border-collapse: separate\; border-radius: 0px\; height: auto\; width: auto\; box-shadow: none\;">The&nbsp\;SHCCNJ&nbsp\;received an operating support grant from the Center for Hispanic Policy\, Research and Development\, a Division of Programs in the Department of State. &nbsp\;</em>
LOCATION:Bergen Community College at The Meadowlands 1280 Wall Street West 5th Floor Lyndhurst\, NJ 07071
UID:e.2857.189
SEQUENCE:3
DTSTAMP:20260423T183859Z
URL:https://business.shccnj.org/events/details/hetp-writing-for-business-189
END:VEVENT

END:VCALENDAR
