BEGIN:VCALENDAR
VERSION:2.0
PRODID:-//ChamberMaster//Event Calendar 2.0//EN
METHOD:PUBLISH
X-PUBLISHED-TTL:P3D
REFRESH-INTERVAL:P3D
CALSCALE:GREGORIAN
BEGIN:VEVENT
DTSTART:20170606T210000Z
DTEND:20170606T230000Z
X-MICROSOFT-CDO-ALLDAYEVENT:FALSE
SUMMARY:HETP Workshop Sponsored by Wells Fargo
DESCRIPTION:
X-ALT-DESC;FMTTYPE=text/html:
LOCATION:Bergen Community College 5th FL - Conference Room 1280 Wall Street West Lyndhurst\, NJ 07071
UID:e.2857.198
SEQUENCE:3
DTSTAMP:20260423T210214Z
URL:https://business.shccnj.org/events/details/hetp-workshop-sponsored-by-wells-fargo-198
END:VEVENT

END:VCALENDAR
