BEGIN:VCALENDAR
VERSION:2.0
PRODID:-//ChamberMaster//Event Calendar 2.0//EN
METHOD:PUBLISH
X-PUBLISHED-TTL:P3D
REFRESH-INTERVAL:P3D
CALSCALE:GREGORIAN
BEGIN:VEVENT
DTSTART:20180829T210000Z
DTEND:20180830T010000Z
X-MICROSOFT-CDO-ALLDAYEVENT:FALSE
SUMMARY:HETP Summer Small Biz Bootcamp III : Cybersecurity / Public Speaking
DESCRIPTION:In this session the following topics will be discussed:\n\n	Cybersecurity Awareness - Presented by Lleana van der Linde\, J.P Morgan Asset & Wealth Management.\n	\n		The interactive workshop will provide an overview of best practices that individuals can adapt to keep themselves and their business more cuber secure.\n	\n	\n	Increase your Sales by Perfecting the most important skill: Listening - by Minue Yoshida\, CEO & Founder of Yoshida Consulting\n	\n		Most people believe that sales come from how much we know about our products and services\, and how well we can explain this to the potential customer. However\, there is a more important skill to master\, that will guarantee an improvement of long-lasting relationships\, loyal customers and increased sales this is Active Listening \n		\n			You think you got this? Come to this workshop and learn about your own "Listening Traps" and hot to improve them.\n		\n		\n	\n	\n\nJoin us to learn\, network\, and enjoy delicious food!
X-ALT-DESC;FMTTYPE=text/html:In this session the following topics will be discussed:\n<ol>\n	<li><strong>Cybersecurity Awareness - Presented by Lleana van der Linde\, J.P Morgan Asset &amp\; Wealth Management.</strong>\n	<ul>\n		<li>The interactive workshop will provide an overview of best practices that individuals can adapt to keep themselves and their business more cuber secure.</li>\n	</ul>\n	</li>\n	<li><strong>Increase your Sales by Perfecting the most important skill: Listening - by </strong><strong>Minue</strong><strong>&nbsp\;Yoshida\, CEO &amp\; Founder of Yoshida Consulting</strong>\n	<ul>\n		<li>Most people believe that sales come from how much we know about our products and services\, and how well we can explain this to the potential customer. However\, there is a more important&nbsp\;skill to master\, that will guarantee an improvement of long-lasting&nbsp\;relationships\, loyal customers and increased sales this is Active Listening&nbsp\;\n		<ul>\n			<li>You think you got this? Come to this workshop and learn about&nbsp\;your own &quot\;Listening Traps&quot\; and hot to improve them.</li>\n		</ul>\n		</li>\n	</ul>\n	</li>\n</ol>\nJoin us to learn\, network\, and enjoy delicious food!\n\n<p>&nbsp\;</p>\n
LOCATION:Wed\, August 29\, 2018 5:00 PM 9:00 PM EDT
UID:e.2857.328
SEQUENCE:3
DTSTAMP:20260424T161419Z
URL:https://business.shccnj.org/events/details/hetp-summer-small-biz-bootcamp-iii-cybersecurity-public-speaking-328
END:VEVENT

END:VCALENDAR
