BEGIN:VCALENDAR
VERSION:2.0
PRODID:-//ChamberMaster//Event Calendar 2.0//EN
METHOD:PUBLISH
X-PUBLISHED-TTL:P3D
REFRESH-INTERVAL:P3D
CALSCALE:GREGORIAN
BEGIN:VEVENT
DTSTART:20161207T230000Z
DTEND:20161208T003000Z
X-MICROSOFT-CDO-ALLDAYEVENT:FALSE
SUMMARY:HETP Seminar Sponsored by Chase | Cash Management Solutions
DESCRIPTION:Meet Business Bankers and obtain a primer on cash management for your business.\n\nHispanic Entrepreneurship Training Program's Seminar\n\nsponsored by CHASE
X-ALT-DESC;FMTTYPE=text/html:<p style="margin: 0px\; padding: 0px\; color: rgb(102\, 106\, 115)\; font-family: &quot\;Benton Sans&quot\;\, &quot\;Helvetica Neue&quot\;\, Helvetica\, Roboto\, Arial\, sans-serif\; font-size: 15px\; letter-spacing: 0.5px\;"><i style="padding-top: 0px\;"><span style="font-weight: 700\; padding-top: 0px\;">Meet Business Bankers and obtain a primer on cash management for your business.</span></i></p>\n\n<p style="margin: 0px\; padding: 10px 0px 0px\; color: rgb(102\, 106\, 115)\; font-family: &quot\;Benton Sans&quot\;\, &quot\;Helvetica Neue&quot\;\, Helvetica\, Roboto\, Arial\, sans-serif\; font-size: 15px\; letter-spacing: 0.5px\;"><i style="padding-top: 0px\;"><span style="font-weight: 700\; padding-top: 0px\;">Hispanic Entrepreneurship Training Program&#39\;s</span></i><span style="font-weight: 700\;"><i style="padding-top: 0px\;">&nbsp\;</i><i>Seminar</i></span></p>\n\n<p style="margin: 0px\; padding: 10px 0px 0px\; color: rgb(102\, 106\, 115)\; font-family: &quot\;Benton Sans&quot\;\, &quot\;Helvetica Neue&quot\;\, Helvetica\, Roboto\, Arial\, sans-serif\; font-size: 15px\; letter-spacing: 0.5px\;"><span style="font-weight: 700\; padding-top: 0px\;"><i style="padding-top: 0px\;">sponsored by CHASE</i></span></p>\n
LOCATION:The Culinary Conference Center 161 Newkirk Street Jersey City\, New Jersey 07306
UID:e.2857.42
SEQUENCE:3
DTSTAMP:20260423T145803Z
URL:https://business.shccnj.org/events/details/hetp-seminar-sponsored-by-chase-cash-management-solutions-42
END:VEVENT

END:VCALENDAR
