BEGIN:VCALENDAR
VERSION:2.0
PRODID:-//ChamberMaster//Event Calendar 2.0//EN
METHOD:PUBLISH
X-PUBLISHED-TTL:P3D
REFRESH-INTERVAL:P3D
CALSCALE:GREGORIAN
BEGIN:VEVENT
DTSTART:20170208T230000Z
DTEND:20170209T003000Z
X-MICROSOFT-CDO-ALLDAYEVENT:FALSE
SUMMARY:HETP Seminar: How To Build Brand Ambassadors on Social Media
DESCRIPTION:Sponsored by NJM Insurance Group\n\n\n\nAn active online presence is a great tool for your small business\, but how exactly do you get the word out? Brand ambassadors are a wonderful way to organically grow your business. \n\n\n\nJoin NJ Manufacturers Insurance on February 8\, 2017 for a seminar focused on brand building\, social media ambassadors and growing your online presence.
X-ALT-DESC;FMTTYPE=text/html:<div data-block="true" data-editor="s1e5" data-offset-key="a8m29-0-0" style="color: rgb(29\, 33\, 41)\; font-family: Helvetica\, Arial\, sans-serif\; font-size: 12px\; white-space: pre-wrap\; background-color: rgb(255\, 255\, 255)\;">\n<div class="_1mf _1mj" data-offset-key="a8m29-0-0" style="position: relative\; direction: ltr\;"><span data-offset-key="a8m29-0-0">Sponsored by NJM Insurance Group</span></div>\n</div>\n\n<div data-block="true" data-editor="s1e5" data-offset-key="57bg9-0-0" style="color: rgb(29\, 33\, 41)\; font-family: Helvetica\, Arial\, sans-serif\; font-size: 12px\; white-space: pre-wrap\; background-color: rgb(255\, 255\, 255)\;">\n<div class="_1mf _1mj" data-offset-key="57bg9-0-0" style="position: relative\; direction: ltr\;"><span data-offset-key="e93bl-0-0">An active online presence is a great tool for your small business\, but how exactly do you get the word out? Brand ambassadors are a wonderful way to organically grow your business. </span></div>\n</div>\n\n<div data-block="true" data-editor="s1e5" data-offset-key="4og0m-0-0" style="color: rgb(29\, 33\, 41)\; font-family: Helvetica\, Arial\, sans-serif\; font-size: 12px\; white-space: pre-wrap\; background-color: rgb(255\, 255\, 255)\;">\n<div class="_1mf _1mj" data-offset-key="4og0m-0-0" style="position: relative\; direction: ltr\;"><span data-offset-key="78vm8-0-0">Join NJ Manufacturers Insurance on February 8\, 2017 for a seminar focused on brand building\, social media ambassadors and growing your online presence.</span></div>\n</div>\n
LOCATION:Culinary Conference Center 161 Newkirk St\, Jersey City\, NJ 07306
UID:e.2857.55
SEQUENCE:3
DTSTAMP:20260423T162248Z
URL:https://business.shccnj.org/events/details/hetp-seminar-how-to-build-brand-ambassadors-on-social-media-55
END:VEVENT

END:VCALENDAR
