BEGIN:VCALENDAR
VERSION:2.0
PRODID:-//ChamberMaster//Event Calendar 2.0//EN
METHOD:PUBLISH
X-PUBLISHED-TTL:P3D
REFRESH-INTERVAL:P3D
CALSCALE:GREGORIAN
BEGIN:VEVENT
DTSTART:20170328T210000Z
DTEND:20170328T230000Z
X-MICROSOFT-CDO-ALLDAYEVENT:FALSE
SUMMARY:HETP: Networking Panel
DESCRIPTION:Networking | Panel Discussion\n\nFar too often small business owners attend networking events and consider it a success according to the amount of business cards they handed out.  Brand building as a small business owner must be focused on meaningful partnerships and organic relationship development.  This panel discussion focuses on the art of the deal\, real connections and the essence of soft skills.  \n\n\n\nLa Creaci n De Redes | Panel De Discusi n\n\nDemasiado a menudo los due os de peque as empresas asisten a eventos y lo consideran un  xito de acuerdo a la cantidad de tarjetas que repartieron. El desarollo de marca como propietario de una peque a empresa debe centrarse en la cultivaci n de asociaciones significativas y relaci nes org nica. Este panel de discusi n se centra en el arte de el acuerdo\, las conexiones reales y la esencia de habilidades interpersonales.\n\n\n\nThe SHCCNJ received an operating support grant from the Center for Hispanic Policy\, Research and Development\, a Division of Programs in the Department of State.
X-ALT-DESC;FMTTYPE=text/html:<u><strong>Networking | Panel Discussion</strong></u><br />\nFar too often small business owners attend networking events and consider it a success according to the amount of business cards they handed out.&nbsp\; Brand building as a small business owner must be focused on meaningful partnerships and organic relationship development.&nbsp\; This panel discussion focuses on the art of the deal\, real connections and the essence of soft skills. &nbsp\;<br />\n<br />\n<strong><u>La Creaci&oacute\;n&nbsp\;De Redes | Panel De Discusi&oacute\;n</u></strong><br />\nDemasiado a menudo los due&ntilde\;os de peque&ntilde\;as empresas asisten a eventos y lo consideran un &eacute\;xito de acuerdo a la cantidad de tarjetas que repartieron. El desarollo de marca como propietario de una peque&ntilde\;a empresa debe centrarse en la cultivaci&oacute\;n de asociaciones significativas y relaci&oacute\;nes org&aacute\;nica. Este panel de discusi&oacute\;n se centra en el arte de el acuerdo\, las conexiones reales y la esencia de habilidades interpersonales.<br />\n<br />\n<strong><em>The&nbsp\;SHCCNJ&nbsp\;received an operating support grant from the Center for Hispanic Policy\, Research and Development\, a Division of Programs in the Department of State. &nbsp\;</em></strong>
LOCATION:Bergen Community College at The Meadowlands 1280 Wall Street West 5th Floor Conference Center Lyndhurst\, NJ 07071
UID:e.2857.184
SEQUENCE:3
DTSTAMP:20260423T163300Z
URL:https://business.shccnj.org/events/details/hetp-networking-panel-184
END:VEVENT

END:VCALENDAR
