BEGIN:VCALENDAR
VERSION:2.0
PRODID:-//ChamberMaster//Event Calendar 2.0//EN
METHOD:PUBLISH
X-PUBLISHED-TTL:P3D
REFRESH-INTERVAL:P3D
CALSCALE:GREGORIAN
BEGIN:VEVENT
DTSTART:20170321T210000Z
DTEND:20170321T230000Z
X-MICROSOFT-CDO-ALLDAYEVENT:FALSE
SUMMARY:HETP: Grow Your Existing Business Workshop
DESCRIPTION:DUE TO THE SNOWSTORM ON MARCH 14\, 2017\,\n\nTHIS WORKSHOP HAS BEEN RESCHEDULED TO MARCH 21\, 2017.\n\n\nWhy passion is so important in business and leadership.\n\nThe 90-minute session will be an interactive workshop where facilitator and students will discuss why they want to start or currently have businesses and how their passions influence their business and leadership styles. We will touch base on the value of Cultural Awareness and Emotional Intelligence. We will also go over the importance of Business Relationships and Building Strong Networks.\n\n\n\n\n\n DEBIDO A LA TORMENTA DE NIEVE EL 14 DE MARZO DE 2017\,\n\nESTE TALLER HA SIDO REPROGRAMADO AL 21 DE MARZO 2017.\n\n\nPor qu  la pasi n es tan importante en los negocios y el liderazgo.\n\nLa sesi n de 90 minutos ser  un taller interactivo donde el facilitador y los estudiantes discutir n por qu  quieren comenzar o actualmente tienen negocios y c mo sus pasiones influyen en sus estilos de negocios y liderazgo. Vamos a tocar base en el valor de la Conciencia Cultural y la Inteligencia Emocional. Tambi n revisaremos la importancia de las relaciones comerciales y la creaci n de redes fuertes.\n\n\n\n\n\nThe SHCCNJ received an operating support grant from the Center for Hispanic Policy\, Research and Development\, a Division of Programs in the Department of State.
X-ALT-DESC;FMTTYPE=text/html:<div style="text-align: center\;"><span style="font-size:14px\;"><strong><span style="color:#FF0000\;">DUE TO THE SNOWSTORM ON MARCH 14\, 2017\,<br />\nTHIS WORKSHOP HAS BEEN RESCHEDULED TO MARCH 21\, 2017.</span></strong></span></div>\n<br />\n<span style="font-size:14px\;"><strong><em>Why passion is so important in business and leadership.</em></strong></span><br />\n<span style="font-size:10.0pt\;">The 90-minute session will be an interactive workshop where facilitator and students will discuss why they want to start or currently have businesses and how their passions influence their business and leadership styles. We will touch base on the value of Cultural Awareness and Emotional Intelligence. We will also go over the importance of Business Relationships and Building Strong Networks.</span>\n\n<div style="text-align: center\;"><br />\n<br />\n<strong><span style="font-size:14px\;"><span style="color:#FF0000\;">&#8203\;DEBIDO A LA TORMENTA DE NIEVE EL 14 DE MARZO DE 2017\,<br />\nESTE TALLER HA SIDO REPROGRAMADO AL 21 DE MARZO 2017.</span></span></strong></div>\n<br />\n<strong><span style="font-size:14px\;">Por qu&eacute\; la pasi&oacute\;n es tan importante en los negocios y el liderazgo.</span></strong><br />\nLa sesi&oacute\;n de 90 minutos ser&aacute\; un taller interactivo donde el facilitador y los estudiantes discutir&aacute\;n por qu&eacute\; quieren comenzar o actualmente tienen negocios y c&oacute\;mo sus pasiones influyen en sus estilos de negocios y liderazgo. Vamos a tocar base en el valor de la Conciencia Cultural y la Inteligencia Emocional. Tambi&eacute\;n revisaremos la importancia de las relaciones comerciales y la creaci&oacute\;n de redes fuertes.<br />\n<br />\n<br />\n<strong><em>The SHCCNJ received an operating support grant from the Center for Hispanic Policy\, Research and Development\, a Division of Programs in the Department of State. &nbsp\;</em></strong><br />\n<br />\n&nbsp\;
LOCATION:Bergen Community College at The Meadowlands 1280 Wall Street West 5th Floor Conference Center Lyndhurst\, NJ 07071
UID:e.2857.59
SEQUENCE:3
DTSTAMP:20260423T185359Z
URL:https://business.shccnj.org/events/details/hetp-grow-your-existing-business-workshop-59
END:VEVENT

END:VCALENDAR
