BEGIN:VCALENDAR
VERSION:2.0
PRODID:-//ChamberMaster//Event Calendar 2.0//EN
METHOD:PUBLISH
X-PUBLISHED-TTL:P3D
REFRESH-INTERVAL:P3D
CALSCALE:GREGORIAN
BEGIN:VEVENT
DTSTART:20170509T210000Z
DTEND:20170509T230000Z
X-MICROSOFT-CDO-ALLDAYEVENT:FALSE
SUMMARY:HETP: Grow Your Existing Business Workshop
DESCRIPTION:Funding Workshop\n\nScalability only happens when the appropriate funding is present.  Properly forecasting provides the platforms to expand business opportunities.  Whether seeking a micro-loan\, small business loan or understanding credit management\, funding your business is critical to growth.  Join our panel discussion as they explore this topic in-depth.\n\n \n\n\n\nTaller Sobre Financiamiento\n\nLa escalabilidad s lo ocurre cuando existe la financiaci n adecuada. Si busca un micro pr stamo\, un pr stamo para peque as empresas o entiende la gesti n del cr dito\, la financiaci n de su negocio es fundamental para el crecimiento.  nase a nuestro panel de discusi n mientras exploran este tema en profundidad.
X-ALT-DESC;FMTTYPE=text/html:<span style="font-size:16px\;"><strong>Funding Workshop</strong></span><br />\n<span style="font-size:12px\;">Scalability only happens when the appropriate funding is present.&nbsp\; Properly forecasting provides the platforms to expand business opportunities.&nbsp\; Whether seeking a micro-loan\, small business loan or understanding credit management\, funding your business is critical to growth.&nbsp\; Join our panel discussion as they explore this topic in-depth.</span><br />\n<em>&nbsp\;</em><br />\n<br />\n<span style="font-size:16px\;"><strong>Taller&nbsp\;Sobre Financiamiento</strong></span><br />\n<span style="font-size:12px\;">La escalabilidad s&oacute\;lo ocurre cuando existe la financiaci&oacute\;n adecuada. Si busca un micro pr&eacute\;stamo\, un pr&eacute\;stamo para peque&ntilde\;as empresas o entiende la gesti&oacute\;n del cr&eacute\;dito\, la financiaci&oacute\;n de su negocio es fundamental para el crecimiento. &Uacute\;nase a nuestro panel de discusi&oacute\;n mientras exploran este tema en profundidad.</span>
LOCATION:Bergen Community College at The Meadowlands 1280 Wall Street West 5th Floor Conference Center Lyndhurst\, NJ 07071
UID:e.2857.192
SEQUENCE:3
DTSTAMP:20260423T200651Z
URL:https://business.shccnj.org/events/details/hetp-grow-your-existing-business-workshop-05-09-2017-192
END:VEVENT

END:VCALENDAR
