BEGIN:VCALENDAR
VERSION:2.0
PRODID:-//ChamberMaster//Event Calendar 2.0//EN
METHOD:PUBLISH
X-PUBLISHED-TTL:P3D
REFRESH-INTERVAL:P3D
CALSCALE:GREGORIAN
BEGIN:VEVENT
DTSTART;VALUE=DATE:20140314
DTEND;VALUE=DATE:20140315
TRANSP:TRANSPARENT
X-MICROSOFT-CDO-ALLDAYEVENT:TRUE
SUMMARY:Health & Wellness Fair
DESCRIPTION:Health & Wellness Fair
X-ALT-DESC;FMTTYPE=text/html:Health & Wellness Fair
LOCATION:
UID:e.2857.7
SEQUENCE:3
DTSTAMP:20260423T043933Z
URL:https://business.shccnj.org/events/details/health-wellness-fair-03-14-2014-7
END:VEVENT

END:VCALENDAR
