BEGIN:VCALENDAR
VERSION:2.0
PRODID:-//ChamberMaster//Event Calendar 2.0//EN
METHOD:PUBLISH
X-PUBLISHED-TTL:P3D
REFRESH-INTERVAL:P3D
CALSCALE:GREGORIAN
BEGIN:VEVENT
DTSTART:20180830T213000Z
DTEND:20180830T233000Z
X-MICROSOFT-CDO-ALLDAYEVENT:FALSE
SUMMARY:Heal and Detox - Wellness Workshop by Jeanne Karle
DESCRIPTION:Balance and Detox - wellness workshop\n\nReclaim your vitality\, Lose weight\, and Heal The Digestive System.\n\nThis program is based on Ayurveda health principles that are targeted at your digestive system   by balancing digestion\, improving your liver function and increasing your body's ability to absorb nutrients from the food you eat. Through this unique Ayurvedic health program\, you will be able to turn back the hands of time and reduce the harmful effects toxic buildup has on your body.\n\n- You will leave this workshop with a mind-body detox kit including herbal supplements\, food therapy\, and a detoxing routine\n\n\n\n(An optional follow-up conference call with the group will be offered on September 6th at 6 pm to provide additional encouragement and guidance\, as desired by the attendees.)
X-ALT-DESC;FMTTYPE=text/html:<span style="font-weight:700\;padding-top:0px\;">Balance and Detox - wellness workshop</span><br />\n<em style="padding-top:0px\;">Reclaim your vitality\, Lose weight\, and Heal The Digestive System.</em><br />\nThis program is based on Ayurveda health principles that are targeted at your digestive system &ndash\; by balancing digestion\, improving your liver function and increasing your body&rsquo\;s ability to absorb nutrients from the food you eat. Through this unique Ayurvedic health program\, you will be able to turn back the hands of time and reduce the harmful effects toxic buildup has on your body.<br />\n-&nbsp\;<span style="font-weight:700\;padding-top:0px\;">You will leave this workshop with a mind-body detox kit including herbal supplements\, food therapy\, and a detoxing routine</span><br />\n<br />\n<em style="padding-top:0px\;">(An optional follow-up conference call with the group will be offered on September 6th at 6 pm to provide additional encouragement and guidance\, as desired by the attendees.)</em>
LOCATION:Bergen Community College 1280 Wall Street West 5th floor Lyndhurst\, NJ 07071
UID:e.2857.329
SEQUENCE:3
DTSTAMP:20260424T150445Z
URL:https://business.shccnj.org/events/details/heal-and-detox-wellness-workshop-by-jeanne-karle-329
END:VEVENT

END:VCALENDAR
