BEGIN:VCALENDAR
VERSION:2.0
PRODID:-//ChamberMaster//Event Calendar 2.0//EN
METHOD:PUBLISH
X-PUBLISHED-TTL:P3D
REFRESH-INTERVAL:P3D
CALSCALE:GREGORIAN
BEGIN:VEVENT
DTSTART:20171125T003000Z
DTEND:20171125T040000Z
X-MICROSOFT-CDO-ALLDAYEVENT:FALSE
SUMMARY:GROWING UP GONZALES
DESCRIPTION:
X-ALT-DESC;FMTTYPE=text/html:
LOCATION:The 777 Theater 777 8Th Ave. (Near 47Th Street)
UID:e.2857.234
SEQUENCE:3
DTSTAMP:20260424T042206Z
URL:https://business.shccnj.org/events/details/growing-up-gonzales-11-24-2017-234
END:VEVENT

END:VCALENDAR
