BEGIN:VCALENDAR
VERSION:2.0
PRODID:-//ChamberMaster//Event Calendar 2.0//EN
METHOD:PUBLISH
X-PUBLISHED-TTL:P3D
REFRESH-INTERVAL:P3D
CALSCALE:GREGORIAN
BEGIN:VEVENT
DTSTART:20180425T040000Z
DTEND:20180425T040000Z
X-MICROSOFT-CDO-ALLDAYEVENT:FALSE
SUMMARY:Grow your business online with Google tools
DESCRIPTION:DESCRIPTION\n\n\n\n\nThis session covers three things you can do right now to grow your business online and to close the session\, I'll introduce some bonus tools that business owners can add into the mix\, when you're ready.\n\n\n	"Be found by local customers\," We'll show you how to connect with local searchers using Google My Business\, a free local business listing that can help your business appear across Google Search and Maps.\n	"Be found everywhere\, on all devices\," We'll show you how to optimize your website for the organic search results\, focusing on making your site mobile-friendly\n	"Be found with online advertising\," I'll show you how to promote your products and services on Google and partner websites.
X-ALT-DESC;FMTTYPE=text/html:<h3>DESCRIPTION</h3>\n\n<div>\n<div>\n<div>\n<p>This session covers three things you can do right now to grow your business online and to close the session\, I&rsquo\;ll introduce some bonus tools that business owners can add into the mix\, when you&rsquo\;re ready.</p>\n\n<ul>\n	<li>&ldquo\;Be found by local customers\,&rdquo\;&nbsp\;We&rsquo\;ll show you how to connect with&nbsp\;local searchers using Google My Business\, a free local business listing that can help your business appear across Google Search and Maps.</li>\n	<li>&ldquo\;Be found everywhere\, on all devices\,&rdquo\; We&rsquo\;ll show you how to optimize your website for the organic search results\, focusing on making your site mobile-friendly</li>\n	<li>&ldquo\;Be found with online advertising\,&rdquo\;&nbsp\;I&rsquo\;ll show you how to promote your products and services on Google and partner websites.</li>\n</ul>\n</div>\n</div>\n</div>\n
LOCATION:William Paterson Cotsakos College of Business 1600 Valley Road Room G015 Wayne\, New Jersey 07470
UID:e.2857.297
SEQUENCE:3
DTSTAMP:20260424T094508Z
URL:https://business.shccnj.org/events/details/grow-your-business-online-with-google-tools-297
END:VEVENT

END:VCALENDAR
