BEGIN:VCALENDAR
VERSION:2.0
PRODID:-//ChamberMaster//Event Calendar 2.0//EN
METHOD:PUBLISH
X-PUBLISHED-TTL:P3D
REFRESH-INTERVAL:P3D
CALSCALE:GREGORIAN
BEGIN:VEVENT
DTSTART:20180131T233000Z
DTEND:20180201T013000Z
X-MICROSOFT-CDO-ALLDAYEVENT:FALSE
SUMMARY:Free Educational Seminar
DESCRIPTION:Originally started in 1976\, David Lerner Associates is a privately-held securities broker/dealer\, with clients' assets of more than $5.3 billion. From the beginning\, the firm has been committed to educating the public about investing opportunities available to them. To that end\, the company regularly holds free investment seminars. These seminars attract thousands of people every year and are held throughout the tri-state New York area and in Florida.
X-ALT-DESC;FMTTYPE=text/html:Originally started in 1976\, David Lerner Associates is a privately-held securities broker/dealer\, with clients&#39\; assets of more than $5.3 billion. From the beginning\, the firm has been committed to educating the public about investing opportunities available to them. To that end\, the company regularly holds free investment seminars. These seminars attract thousands of people every year and are held throughout the tri-state New York area and in Florida.
LOCATION:Villa Maria Restaurant 3800 Quakerbridge Rd. # 4 Trenton\, NJ 08619
UID:e.2857.279
SEQUENCE:3
DTSTAMP:20260424T053441Z
URL:https://business.shccnj.org/events/details/free-educational-seminar-279
END:VEVENT

END:VCALENDAR
