BEGIN:VCALENDAR
VERSION:2.0
PRODID:-//ChamberMaster//Event Calendar 2.0//EN
METHOD:PUBLISH
X-PUBLISHED-TTL:P3D
REFRESH-INTERVAL:P3D
CALSCALE:GREGORIAN
BEGIN:VEVENT
DTSTART:20170718T200000Z
DTEND:20170719T010000Z
X-MICROSOFT-CDO-ALLDAYEVENT:FALSE
SUMMARY:Feria De Negocios Hispanos
DESCRIPTION:Connect your company to a growing market at the Hispanic Business Expo. This is a great opportunity to showcase your business through networking\, community outreach\, referrals\,and brand awareness. Seminars at the expo will provide statistics and marketing programs. The expo will provide opportunities to meet influential Hispanic leaders and potential clients.
X-ALT-DESC;FMTTYPE=text/html:<span style="color:#000000\;"><span style="font-family: &quot\;Open Sans&quot\;\, Arial\, sans-serif\; font-size: 14px\;">Connect your company to a growing market at the Hispanic Business Expo. This is a great opportunity to showcase your business through networking\, community outreach\, referrals\,and brand awareness. Seminars at the expo will provide statistics and marketing programs. The expo will provide opportunities to meet influential Hispanic leaders and potential clients.</span></span>
LOCATION:Pines Manor 2085 New Jersey 27\, Edison New Jersey\, 08817
UID:e.2857.195
SEQUENCE:3
DTSTAMP:20260423T221401Z
URL:https://business.shccnj.org/events/details/feria-de-negocios-hispanos-195
END:VEVENT

END:VCALENDAR
