BEGIN:VCALENDAR
VERSION:2.0
PRODID:-//ChamberMaster//Event Calendar 2.0//EN
METHOD:PUBLISH
X-PUBLISHED-TTL:P3D
REFRESH-INTERVAL:P3D
CALSCALE:GREGORIAN
BEGIN:VEVENT
DTSTART:20170923T150000Z
DTEND:20170923T200000Z
X-MICROSOFT-CDO-ALLDAYEVENT:FALSE
SUMMARY:Double Six Domino Tournament
DESCRIPTION:A Fun Raising Double Six Domino Tournament for The Salvation Army of NJ. The proceeds support The Salvation Army Social Service Programs in NJ. There will be prizes for winning team\, food and a time to see what The Salvation Army is doing to help its community.
X-ALT-DESC;FMTTYPE=text/html:A Fun Raising Double Six Domino Tournament for The Salvation Army of NJ. The proceeds support The Salvation Army Social Service Programs in NJ. There will be prizes for winning team\, food and a time to see what The Salvation Army is doing to help its community.
LOCATION:138 Clifford Street Newark\, NJ 07105
UID:e.2857.220
SEQUENCE:3
DTSTAMP:20260424T004342Z
URL:https://business.shccnj.org/events/details/double-six-domino-tournament-220
END:VEVENT

END:VCALENDAR
