BEGIN:VCALENDAR
VERSION:2.0
PRODID:-//ChamberMaster//Event Calendar 2.0//EN
METHOD:PUBLISH
X-PUBLISHED-TTL:P3D
REFRESH-INTERVAL:P3D
CALSCALE:GREGORIAN
BEGIN:VEVENT
DTSTART;VALUE=DATE:20160523
DTEND;VALUE=DATE:20160524
TRANSP:TRANSPARENT
X-MICROSOFT-CDO-ALLDAYEVENT:TRUE
SUMMARY:Discussion on the Challenges Facing Hispanic Business Owners
DESCRIPTION:Discussion on the Challenges Facing Hispanic Business Owners
X-ALT-DESC;FMTTYPE=text/html:Discussion on the Challenges Facing Hispanic Business Owners
LOCATION:
UID:e.2857.34
SEQUENCE:3
DTSTAMP:20260423T042043Z
URL:https://business.shccnj.org/events/details/discussion-on-the-challenges-facing-hispanic-business-owners-05-23-2016-34
END:VEVENT

END:VCALENDAR
